BEGIN:VCALENDAR
VERSION:2.0
PRODID:-//St. George&#039;s School of Montreal - ECPv6.15.11//NONSGML v1.0//EN
CALSCALE:GREGORIAN
METHOD:PUBLISH
X-ORIGINAL-URL:https://www.stgeorges.qc.ca
X-WR-CALDESC:Events for St. George&#039;s School of Montreal
REFRESH-INTERVAL;VALUE=DURATION:PT1H
X-Robots-Tag:noindex
X-PUBLISHED-TTL:PT1H
BEGIN:VTIMEZONE
TZID:America/Toronto
BEGIN:DAYLIGHT
TZOFFSETFROM:-0500
TZOFFSETTO:-0400
TZNAME:EDT
DTSTART:20250309T070000
END:DAYLIGHT
BEGIN:STANDARD
TZOFFSETFROM:-0400
TZOFFSETTO:-0500
TZNAME:EST
DTSTART:20251102T060000
END:STANDARD
BEGIN:DAYLIGHT
TZOFFSETFROM:-0500
TZOFFSETTO:-0400
TZNAME:EDT
DTSTART:20260308T070000
END:DAYLIGHT
BEGIN:STANDARD
TZOFFSETFROM:-0400
TZOFFSETTO:-0500
TZNAME:EST
DTSTART:20261101T060000
END:STANDARD
BEGIN:DAYLIGHT
TZOFFSETFROM:-0500
TZOFFSETTO:-0400
TZNAME:EDT
DTSTART:20270314T070000
END:DAYLIGHT
BEGIN:STANDARD
TZOFFSETFROM:-0400
TZOFFSETTO:-0500
TZNAME:EST
DTSTART:20271107T060000
END:STANDARD
END:VTIMEZONE
BEGIN:VEVENT
DTSTART;VALUE=DATE:20260413
DTEND;VALUE=DATE:20260414
DTSTAMP:20260424T055457
CREATED:20250603T221735Z
LAST-MODIFIED:20260424T000153Z
UID:84259-1776038400-1776124799@www.stgeorges.qc.ca
SUMMARY:Day 6
DESCRIPTION:
URL:https://www.stgeorges.qc.ca/event/day-6-18/
CATEGORIES:Full school Events
END:VEVENT
BEGIN:VEVENT
DTSTART;VALUE=DATE:20260414
DTEND;VALUE=DATE:20260415
DTSTAMP:20260424T055457
CREATED:20250603T221735Z
LAST-MODIFIED:20260424T000141Z
UID:84258-1776124800-1776211199@www.stgeorges.qc.ca
SUMMARY:Day 7
DESCRIPTION:
URL:https://www.stgeorges.qc.ca/event/day-7-16/
CATEGORIES:Full school Events
END:VEVENT
BEGIN:VEVENT
DTSTART;TZID=America/Toronto:20260414T090000
DTEND;TZID=America/Toronto:20260414T143000
DTSTAMP:20260424T055457
CREATED:20260331T174333Z
LAST-MODIFIED:20260423T211331Z
UID:86702-1776157200-1776177000@www.stgeorges.qc.ca
SUMMARY:ES - Grade 4 Basketball Jamboree
DESCRIPTION:
URL:https://www.stgeorges.qc.ca/event/es-grade-4-basketball-jamboree/
LOCATION:3120 The Boulevard\, Montréal\, QC H3Y 1R9\, Canada
CATEGORIES:Elementary School Events
END:VEVENT
BEGIN:VEVENT
DTSTART;TZID=America/Toronto:20260414T180000
DTEND;TZID=America/Toronto:20260414T210000
DTSTAMP:20260424T055457
CREATED:20260112T180022Z
LAST-MODIFIED:20260424T000154Z
UID:85945-1776189600-1776200400@www.stgeorges.qc.ca
SUMMARY:The Big Dill Fundraiser
DESCRIPTION:
URL:https://www.stgeorges.qc.ca/event/pkl-tournament-fundraiser/
LOCATION:Le Deuce Club\, 5760 Chem. de la Côte-de-Liesse\, Mont-Royal\, QC H4T 1B1\, Canada
CATEGORIES:Full school Events,High School Events
END:VEVENT
BEGIN:VEVENT
DTSTART;VALUE=DATE:20260415
DTEND;VALUE=DATE:20260416
DTSTAMP:20260424T055457
CREATED:20250603T221749Z
LAST-MODIFIED:20260424T000154Z
UID:84262-1776211200-1776297599@www.stgeorges.qc.ca
SUMMARY:Day 8
DESCRIPTION:
URL:https://www.stgeorges.qc.ca/event/day-8-17/
CATEGORIES:Full school Events
END:VEVENT
BEGIN:VEVENT
DTSTART;VALUE=DATE:20260415
DTEND;VALUE=DATE:20260416
DTSTAMP:20260424T055457
CREATED:20251002T231204Z
LAST-MODIFIED:20260423T211331Z
UID:85073-1776211200-1776297599@www.stgeorges.qc.ca
SUMMARY:K - Gr 6 Late Start at 9:30am
DESCRIPTION:
URL:https://www.stgeorges.qc.ca/event/k-gr-6-late-start-at-930am-5/
CATEGORIES:Elementary School Events
END:VEVENT
BEGIN:VEVENT
DTSTART;VALUE=DATE:20260415
DTEND;VALUE=DATE:20260416
DTSTAMP:20260424T055457
CREATED:20251003T134433Z
LAST-MODIFIED:20260422T173117Z
UID:85088-1776211200-1776297599@www.stgeorges.qc.ca
SUMMARY:Gr 7 -11 Late Start at 9:35am
DESCRIPTION:
URL:https://www.stgeorges.qc.ca/event/gr-7-11-late-start-at-935am-5/
CATEGORIES:High School Events
END:VEVENT
BEGIN:VEVENT
DTSTART;TZID=America/Toronto:20260415T081500
DTEND;TZID=America/Toronto:20260415T092500
DTSTAMP:20260424T055457
CREATED:20250812T231735Z
LAST-MODIFIED:20260424T000154Z
UID:84588-1776240900-1776245100@www.stgeorges.qc.ca
SUMMARY:Flex Day - Faculty Session
DESCRIPTION:
URL:https://www.stgeorges.qc.ca/event/flex-day-faculty-session-5/
CATEGORIES:Full school Events
END:VEVENT
BEGIN:VEVENT
DTSTART;VALUE=DATE:20260416
DTEND;VALUE=DATE:20260417
DTSTAMP:20260424T055457
CREATED:20250603T221735Z
LAST-MODIFIED:20260424T000154Z
UID:84261-1776297600-1776383999@www.stgeorges.qc.ca
SUMMARY:Day 9
DESCRIPTION:
URL:https://www.stgeorges.qc.ca/event/day-9-17/
CATEGORIES:Full school Events
END:VEVENT
BEGIN:VEVENT
DTSTART;TZID=America/Toronto:20260416T120000
DTEND;TZID=America/Toronto:20260416T150000
DTSTAMP:20260424T055457
CREATED:20260410T143057Z
LAST-MODIFIED:20260422T173117Z
UID:86789-1776340800-1776351600@www.stgeorges.qc.ca
SUMMARY:Grade 9 - Writer's Voice
DESCRIPTION:
URL:https://www.stgeorges.qc.ca/event/grade-9-writers-voice/
LOCATION:1231 Rue Sainte-Catherine O\, Montréal\, QC H3G 1P3\, Canada
CATEGORIES:High School Events
END:VEVENT
BEGIN:VEVENT
DTSTART;TZID=America/Toronto:20260416T154500
DTEND;TZID=America/Toronto:20260416T170000
DTSTAMP:20260424T055457
CREATED:20250919T195652Z
LAST-MODIFIED:20260423T211331Z
UID:84936-1776354300-1776358800@www.stgeorges.qc.ca
SUMMARY:ES - Grades 6: Community Learning Fair
DESCRIPTION:
URL:https://www.stgeorges.qc.ca/event/es-grades-6-community-learning-fair/
LOCATION:Gr. 6 Classrooms & Library
CATEGORIES:Elementary School Events
END:VEVENT
BEGIN:VEVENT
DTSTART;VALUE=DATE:20260417
DTEND;VALUE=DATE:20260418
DTSTAMP:20260424T055457
CREATED:20250603T221735Z
LAST-MODIFIED:20260424T000154Z
UID:84260-1776384000-1776470399@www.stgeorges.qc.ca
SUMMARY:Day 10
DESCRIPTION:
URL:https://www.stgeorges.qc.ca/event/day-10-17/
CATEGORIES:Full school Events
END:VEVENT
END:VCALENDAR