BEGIN:VCALENDAR
VERSION:2.0
PRODID:-//St. George&#039;s School of Montreal - ECPv6.15.11//NONSGML v1.0//EN
CALSCALE:GREGORIAN
METHOD:PUBLISH
X-WR-CALNAME:St. George&#039;s School of Montreal
X-ORIGINAL-URL:https://www.stgeorges.qc.ca
X-WR-CALDESC:Events for St. George&#039;s School of Montreal
REFRESH-INTERVAL;VALUE=DURATION:PT1H
X-Robots-Tag:noindex
X-PUBLISHED-TTL:PT1H
BEGIN:VTIMEZONE
TZID:America/Toronto
BEGIN:DAYLIGHT
TZOFFSETFROM:-0500
TZOFFSETTO:-0400
TZNAME:EDT
DTSTART:20240310T070000
END:DAYLIGHT
BEGIN:STANDARD
TZOFFSETFROM:-0400
TZOFFSETTO:-0500
TZNAME:EST
DTSTART:20241103T060000
END:STANDARD
BEGIN:DAYLIGHT
TZOFFSETFROM:-0500
TZOFFSETTO:-0400
TZNAME:EDT
DTSTART:20250309T070000
END:DAYLIGHT
BEGIN:STANDARD
TZOFFSETFROM:-0400
TZOFFSETTO:-0500
TZNAME:EST
DTSTART:20251102T060000
END:STANDARD
BEGIN:DAYLIGHT
TZOFFSETFROM:-0500
TZOFFSETTO:-0400
TZNAME:EDT
DTSTART:20260308T070000
END:DAYLIGHT
BEGIN:STANDARD
TZOFFSETFROM:-0400
TZOFFSETTO:-0500
TZNAME:EST
DTSTART:20261101T060000
END:STANDARD
END:VTIMEZONE
BEGIN:VEVENT
DTSTART;VALUE=DATE:20250217
DTEND;VALUE=DATE:20250218
DTSTAMP:20260422T102743
CREATED:20240822T053030Z
LAST-MODIFIED:20260420T232416Z
UID:81578-1739750400-1739836799@www.stgeorges.qc.ca
SUMMARY:Day 6
DESCRIPTION:
URL:https://www.stgeorges.qc.ca/event/day-6-134/
CATEGORIES:Full school Events
END:VEVENT
BEGIN:VEVENT
DTSTART;VALUE=DATE:20250217
DTEND;VALUE=DATE:20250218
DTSTAMP:20260422T102743
CREATED:20240822T053031Z
LAST-MODIFIED:20250203T235429Z
UID:81580-1739750400-1739836799@www.stgeorges.qc.ca
SUMMARY:February is Black History Month
DESCRIPTION:
URL:https://www.stgeorges.qc.ca/event/february-is-black-history-month-22/
CATEGORIES:Full school Events
END:VEVENT
BEGIN:VEVENT
DTSTART;VALUE=DATE:20250217
DTEND;VALUE=DATE:20250218
DTSTAMP:20260422T102743
CREATED:20240822T114653Z
LAST-MODIFIED:20260421T170908Z
UID:81791-1739750400-1739836799@www.stgeorges.qc.ca
SUMMARY:Gr 10 International Trips Depart (Roatan and Italy)
DESCRIPTION:
URL:https://www.stgeorges.qc.ca/event/gr-10-international-trips-depart/
CATEGORIES:High School Events
END:VEVENT
BEGIN:VEVENT
DTSTART;VALUE=DATE:20250218
DTEND;VALUE=DATE:20250219
DTSTAMP:20260422T102743
CREATED:20240822T053045Z
LAST-MODIFIED:20260420T232416Z
UID:81583-1739836800-1739923199@www.stgeorges.qc.ca
SUMMARY:Day 7
DESCRIPTION:
URL:https://www.stgeorges.qc.ca/event/day-7-122/
CATEGORIES:Full school Events
END:VEVENT
BEGIN:VEVENT
DTSTART;VALUE=DATE:20250218
DTEND;VALUE=DATE:20250219
DTSTAMP:20260422T102743
CREATED:20240822T053046Z
LAST-MODIFIED:20250203T235417Z
UID:81585-1739836800-1739923199@www.stgeorges.qc.ca
SUMMARY:February is Black History Month
DESCRIPTION:
URL:https://www.stgeorges.qc.ca/event/february-is-black-history-month-24/
CATEGORIES:Full school Events
END:VEVENT
BEGIN:VEVENT
DTSTART;VALUE=DATE:20250218
DTEND;VALUE=DATE:20250219
DTSTAMP:20260422T102743
CREATED:20240822T114653Z
LAST-MODIFIED:20260421T170908Z
UID:81790-1739836800-1739923199@www.stgeorges.qc.ca
SUMMARY:Gr 10 International Trips
DESCRIPTION:
URL:https://www.stgeorges.qc.ca/event/gr-10-international-trips-11/
CATEGORIES:High School Events
END:VEVENT
BEGIN:VEVENT
DTSTART;VALUE=DATE:20250219
DTEND;VALUE=DATE:20250220
DTSTAMP:20260422T102743
CREATED:20240822T053045Z
LAST-MODIFIED:20250203T235429Z
UID:81584-1739923200-1740009599@www.stgeorges.qc.ca
SUMMARY:February is Black History Month
DESCRIPTION:
URL:https://www.stgeorges.qc.ca/event/february-is-black-history-month-23/
CATEGORIES:Full school Events
END:VEVENT
BEGIN:VEVENT
DTSTART;VALUE=DATE:20250219
DTEND;VALUE=DATE:20250220
DTSTAMP:20260422T102743
CREATED:20240822T053045Z
LAST-MODIFIED:20260420T232416Z
UID:81582-1739923200-1740009599@www.stgeorges.qc.ca
SUMMARY:Day 8
DESCRIPTION:
URL:https://www.stgeorges.qc.ca/event/day-8-135/
CATEGORIES:Full school Events
END:VEVENT
BEGIN:VEVENT
DTSTART;VALUE=DATE:20250219
DTEND;VALUE=DATE:20250220
DTSTAMP:20260422T102743
CREATED:20240822T114653Z
LAST-MODIFIED:20260421T170920Z
UID:81789-1739923200-1740009599@www.stgeorges.qc.ca
SUMMARY:Gr 10 International Trips
DESCRIPTION:
URL:https://www.stgeorges.qc.ca/event/gr-10-international-trips-10/
CATEGORIES:High School Events
END:VEVENT
BEGIN:VEVENT
DTSTART;VALUE=DATE:20250219
DTEND;VALUE=DATE:20250223
DTSTAMP:20260422T102743
CREATED:20240917T160704Z
LAST-MODIFIED:20260421T170920Z
UID:81976-1739923200-1740268799@www.stgeorges.qc.ca
SUMMARY:Canadian Robotics Competition
DESCRIPTION:
URL:https://www.stgeorges.qc.ca/event/canadian-robotics-competition-4/
LOCATION:Saint Pius X Career Centre\, 9955 Av. Papineau\, Montréal\, QC H2B 1Z9\, Canada
CATEGORIES:High School Events
END:VEVENT
BEGIN:VEVENT
DTSTART;TZID=America/Toronto:20250219T081500
DTEND;TZID=America/Toronto:20250219T084500
DTSTAMP:20260422T102743
CREATED:20241218T213727Z
LAST-MODIFIED:20260421T203744Z
UID:82832-1739952900-1739954700@www.stgeorges.qc.ca
SUMMARY:Spirit Week Assembly
DESCRIPTION:
URL:https://www.stgeorges.qc.ca/event/spirit-week-assembly-2/
LOCATION:ES Gymnasium
CATEGORIES:Elementary School Events
END:VEVENT
BEGIN:VEVENT
DTSTART;TZID=America/Toronto:20250219T082000
DTEND;TZID=America/Toronto:20250219T113000
DTSTAMP:20260422T102743
CREATED:20241003T183741Z
LAST-MODIFIED:20260421T170920Z
UID:82141-1739953200-1739964600@www.stgeorges.qc.ca
SUMMARY:Canadian Computing Competition- STEAM
DESCRIPTION:
URL:https://www.stgeorges.qc.ca/event/canadian-computing-competition-steam/
LOCATION:Room 216
CATEGORIES:High School Events
END:VEVENT
BEGIN:VEVENT
DTSTART;VALUE=DATE:20250220
DTEND;VALUE=DATE:20250221
DTSTAMP:20260422T102743
CREATED:20240822T053045Z
LAST-MODIFIED:20260420T232416Z
UID:81581-1740009600-1740095999@www.stgeorges.qc.ca
SUMMARY:Day 9
DESCRIPTION:
URL:https://www.stgeorges.qc.ca/event/day-9-128/
CATEGORIES:Full school Events
END:VEVENT
BEGIN:VEVENT
DTSTART;VALUE=DATE:20250220
DTEND;VALUE=DATE:20250221
DTSTAMP:20260422T102743
CREATED:20240822T053046Z
LAST-MODIFIED:20250203T235429Z
UID:81586-1740009600-1740095999@www.stgeorges.qc.ca
SUMMARY:February is Black History Month
DESCRIPTION:
URL:https://www.stgeorges.qc.ca/event/february-is-black-history-month-25/
CATEGORIES:Full school Events
END:VEVENT
BEGIN:VEVENT
DTSTART;VALUE=DATE:20250220
DTEND;VALUE=DATE:20250221
DTSTAMP:20260422T102743
CREATED:20240822T114653Z
LAST-MODIFIED:20260421T170920Z
UID:81792-1740009600-1740095999@www.stgeorges.qc.ca
SUMMARY:Gr 10 International Trips
DESCRIPTION:
URL:https://www.stgeorges.qc.ca/event/gr-10-international-trips-12/
CATEGORIES:High School Events
END:VEVENT
BEGIN:VEVENT
DTSTART;TZID=America/Toronto:20250220T081500
DTEND;TZID=America/Toronto:20250220T084500
DTSTAMP:20260422T102743
CREATED:20240919T183632Z
LAST-MODIFIED:20241217T212232Z
UID:82009-1740039300-1740041100@www.stgeorges.qc.ca
SUMMARY:Spirit Week Assembly
DESCRIPTION:
URL:https://www.stgeorges.qc.ca/event/spirit-week-assembly/
LOCATION:ES Gymnasium
CATEGORIES:Elementary School Events
END:VEVENT
BEGIN:VEVENT
DTSTART;TZID=America/Toronto:20250220T083000
DTEND;TZID=America/Toronto:20250220T113000
DTSTAMP:20260422T102743
CREATED:20241217T212233Z
LAST-MODIFIED:20260421T203744Z
UID:82793-1740040200-1740051000@www.stgeorges.qc.ca
SUMMARY:ES - Grade 6: Dragons’ Den
DESCRIPTION:
URL:https://www.stgeorges.qc.ca/event/es-grade-6-dragons-den/
LOCATION:ES GYM
CATEGORIES:Elementary School Events
END:VEVENT
BEGIN:VEVENT
DTSTART;TZID=America/Toronto:20250220T113000
DTEND;TZID=America/Toronto:20250220T133000
DTSTAMP:20260422T102743
CREATED:20250220T135402Z
LAST-MODIFIED:20260421T170908Z
UID:83301-1740051000-1740058200@www.stgeorges.qc.ca
SUMMARY:HS- Grade 10: Sortie au restaurant
DESCRIPTION:
URL:https://www.stgeorges.qc.ca/event/hs-grade-10-sortie-au-restaurant/
LOCATION:Time Out Market Montréal\, 705 Rue Sainte-Catherine\, Montréal\, QC H3B 4G5\, Canada
CATEGORIES:High School Events
END:VEVENT
BEGIN:VEVENT
DTSTART;TZID=America/Toronto:20250220T160000
DTEND;TZID=America/Toronto:20250220T160000
DTSTAMP:20260422T102743
CREATED:20240916T220937Z
LAST-MODIFIED:20260420T232416Z
UID:81971-1740067200-1740067200@www.stgeorges.qc.ca
SUMMARY:Grade 11 Term Two Report Cards are Released
DESCRIPTION:
URL:https://www.stgeorges.qc.ca/event/grade-11-term-two-report-cards-are-released/
CATEGORIES:Full school Events
END:VEVENT
BEGIN:VEVENT
DTSTART;VALUE=DATE:20250221
DTEND;VALUE=DATE:20250222
DTSTAMP:20260422T102743
CREATED:20240822T053046Z
LAST-MODIFIED:20250203T235429Z
UID:81589-1740096000-1740182399@www.stgeorges.qc.ca
SUMMARY:February is Black History Month
DESCRIPTION:
URL:https://www.stgeorges.qc.ca/event/february-is-black-history-month-27/
CATEGORIES:Full school Events
END:VEVENT
BEGIN:VEVENT
DTSTART;VALUE=DATE:20250221
DTEND;VALUE=DATE:20250222
DTSTAMP:20260422T102743
CREATED:20240822T053046Z
LAST-MODIFIED:20260420T232416Z
UID:81588-1740096000-1740182399@www.stgeorges.qc.ca
SUMMARY:Day 10
DESCRIPTION:
URL:https://www.stgeorges.qc.ca/event/day-10-132/
CATEGORIES:Full school Events
END:VEVENT
BEGIN:VEVENT
DTSTART;VALUE=DATE:20250221
DTEND;VALUE=DATE:20250222
DTSTAMP:20260422T102743
CREATED:20240822T114654Z
LAST-MODIFIED:20260421T170921Z
UID:81796-1740096000-1740182399@www.stgeorges.qc.ca
SUMMARY:Gr 10 International Trips
DESCRIPTION:
URL:https://www.stgeorges.qc.ca/event/gr-10-international-trips-16/
CATEGORIES:High School Events
END:VEVENT
BEGIN:VEVENT
DTSTART;VALUE=DATE:20250222
DTEND;VALUE=DATE:20250223
DTSTAMP:20260422T102743
CREATED:20240822T053046Z
LAST-MODIFIED:20250203T235430Z
UID:81587-1740182400-1740268799@www.stgeorges.qc.ca
SUMMARY:February is Black History Month
DESCRIPTION:
URL:https://www.stgeorges.qc.ca/event/february-is-black-history-month-26/
CATEGORIES:Full school Events
END:VEVENT
BEGIN:VEVENT
DTSTART;VALUE=DATE:20250222
DTEND;VALUE=DATE:20250223
DTSTAMP:20260422T102743
CREATED:20240822T114654Z
LAST-MODIFIED:20260421T170920Z
UID:81795-1740182400-1740268799@www.stgeorges.qc.ca
SUMMARY:Gr 10 International Trips
DESCRIPTION:
URL:https://www.stgeorges.qc.ca/event/gr-10-international-trips-15/
CATEGORIES:High School Events
END:VEVENT
BEGIN:VEVENT
DTSTART;VALUE=DATE:20250223
DTEND;VALUE=DATE:20250224
DTSTAMP:20260422T102743
CREATED:20240822T053047Z
LAST-MODIFIED:20250203T235430Z
UID:81590-1740268800-1740355199@www.stgeorges.qc.ca
SUMMARY:February is Black History Month
DESCRIPTION:
URL:https://www.stgeorges.qc.ca/event/february-is-black-history-month-28/
CATEGORIES:Full school Events
END:VEVENT
BEGIN:VEVENT
DTSTART;VALUE=DATE:20250223
DTEND;VALUE=DATE:20250224
DTSTAMP:20260422T102743
CREATED:20240822T114654Z
LAST-MODIFIED:20260421T170921Z
UID:81794-1740268800-1740355199@www.stgeorges.qc.ca
SUMMARY:Gr 10 International Trips
DESCRIPTION:
URL:https://www.stgeorges.qc.ca/event/gr-10-international-trips-14/
CATEGORIES:High School Events
END:VEVENT
END:VCALENDAR