BEGIN:VCALENDAR
VERSION:2.0
PRODID:-//St. George&#039;s School of Montreal - ECPv6.15.11//NONSGML v1.0//EN
CALSCALE:GREGORIAN
METHOD:PUBLISH
X-WR-CALNAME:St. George&#039;s School of Montreal
X-ORIGINAL-URL:https://www.stgeorges.qc.ca
X-WR-CALDESC:Events for St. George&#039;s School of Montreal
REFRESH-INTERVAL;VALUE=DURATION:PT1H
X-Robots-Tag:noindex
X-PUBLISHED-TTL:PT1H
BEGIN:VTIMEZONE
TZID:America/Toronto
BEGIN:DAYLIGHT
TZOFFSETFROM:-0500
TZOFFSETTO:-0400
TZNAME:EDT
DTSTART:20240310T070000
END:DAYLIGHT
BEGIN:STANDARD
TZOFFSETFROM:-0400
TZOFFSETTO:-0500
TZNAME:EST
DTSTART:20241103T060000
END:STANDARD
BEGIN:DAYLIGHT
TZOFFSETFROM:-0500
TZOFFSETTO:-0400
TZNAME:EDT
DTSTART:20250309T070000
END:DAYLIGHT
BEGIN:STANDARD
TZOFFSETFROM:-0400
TZOFFSETTO:-0500
TZNAME:EST
DTSTART:20251102T060000
END:STANDARD
BEGIN:DAYLIGHT
TZOFFSETFROM:-0500
TZOFFSETTO:-0400
TZNAME:EDT
DTSTART:20260308T070000
END:DAYLIGHT
BEGIN:STANDARD
TZOFFSETFROM:-0400
TZOFFSETTO:-0500
TZNAME:EST
DTSTART:20261101T060000
END:STANDARD
END:VTIMEZONE
BEGIN:VEVENT
DTSTART;VALUE=DATE:20250113
DTEND;VALUE=DATE:20250114
DTSTAMP:20260424T042555
CREATED:20240822T052925Z
LAST-MODIFIED:20260423T235313Z
UID:81534-1736726400-1736812799@www.stgeorges.qc.ca
SUMMARY:Day 1
DESCRIPTION:
URL:https://www.stgeorges.qc.ca/event/day-1-130/
CATEGORIES:Full school Events
END:VEVENT
BEGIN:VEVENT
DTSTART;TZID=America/Toronto:20250113T111500
DTEND;TZID=America/Toronto:20250113T133000
DTSTAMP:20260424T042555
CREATED:20241016T210750Z
LAST-MODIFIED:20260423T173802Z
UID:82262-1736766900-1736775000@www.stgeorges.qc.ca
SUMMARY:Bake Sale-S.O.L.
DESCRIPTION:
URL:https://www.stgeorges.qc.ca/event/bake-sale-s-o-l/
LOCATION:Student lounge
CATEGORIES:High School Events
END:VEVENT
BEGIN:VEVENT
DTSTART;VALUE=DATE:20250114
DTEND;VALUE=DATE:20250115
DTSTAMP:20260424T042555
CREATED:20240822T052925Z
LAST-MODIFIED:20260423T235325Z
UID:81533-1736812800-1736899199@www.stgeorges.qc.ca
SUMMARY:Day 2
DESCRIPTION:
URL:https://www.stgeorges.qc.ca/event/day-2-125/
CATEGORIES:Full school Events
END:VEVENT
BEGIN:VEVENT
DTSTART;TZID=America/Toronto:20250114T083000
DTEND;TZID=America/Toronto:20250114T111500
DTSTAMP:20260424T042555
CREATED:20241202T195205Z
LAST-MODIFIED:20260423T210713Z
UID:82696-1736843400-1736853300@www.stgeorges.qc.ca
SUMMARY:ES-Grade 5: Graphic Novel Writing
DESCRIPTION:
URL:https://www.stgeorges.qc.ca/event/es-grade-5-graphic-novel-writing/
LOCATION:Grade 5 Classroom
CATEGORIES:Elementary School Events
END:VEVENT
BEGIN:VEVENT
DTSTART;TZID=America/Toronto:20250114T090000
DTEND;TZID=America/Toronto:20250114T100000
DTSTAMP:20260424T042555
CREATED:20250109T152331Z
LAST-MODIFIED:20260423T173814Z
UID:82932-1736845200-1736848800@www.stgeorges.qc.ca
SUMMARY:HS- Grade 11: Applying to CEGEP
DESCRIPTION:
URL:https://www.stgeorges.qc.ca/event/hs-grade-11-applying-to-cegep/
CATEGORIES:High School Events
END:VEVENT
BEGIN:VEVENT
DTSTART;TZID=America/Toronto:20250114T140000
DTEND;TZID=America/Toronto:20250114T220000
DTSTAMP:20260424T042555
CREATED:20240918T162206Z
LAST-MODIFIED:20260423T173814Z
UID:81994-1736863200-1736892000@www.stgeorges.qc.ca
SUMMARY:HS Ski Trip
DESCRIPTION:Registration online
URL:https://www.stgeorges.qc.ca/event/hs-ski-trip-11/
LOCATION:Bromont\, QC\, Canada
CATEGORIES:High School Events
END:VEVENT
BEGIN:VEVENT
DTSTART;VALUE=DATE:20250115
DTEND;VALUE=DATE:20250116
DTSTAMP:20260424T042555
CREATED:20240822T052926Z
LAST-MODIFIED:20260423T235325Z
UID:81536-1736899200-1736985599@www.stgeorges.qc.ca
SUMMARY:Day 3
DESCRIPTION:
URL:https://www.stgeorges.qc.ca/event/day-3-126/
CATEGORIES:Full school Events
END:VEVENT
BEGIN:VEVENT
DTSTART;TZID=America/Toronto:20250115T083000
DTEND;TZID=America/Toronto:20250115T094500
DTSTAMP:20260424T042555
CREATED:20241211T205333Z
LAST-MODIFIED:20250106T143827Z
UID:82754-1736929800-1736934300@www.stgeorges.qc.ca
SUMMARY:HS Full-School Assembly with Guest Speaker(virtual); St. G's welcome alumnus Shawn Levy '85
DESCRIPTION:
URL:https://www.stgeorges.qc.ca/event/hs-grade-7-to-11-shawn-levy-speaker-event/
LOCATION:HS GYM
CATEGORIES:High School Events
END:VEVENT
BEGIN:VEVENT
DTSTART;VALUE=DATE:20250116
DTEND;VALUE=DATE:20250117
DTSTAMP:20260424T042555
CREATED:20240822T052925Z
LAST-MODIFIED:20260423T235325Z
UID:81535-1736985600-1737071999@www.stgeorges.qc.ca
SUMMARY:Day 4
DESCRIPTION:
URL:https://www.stgeorges.qc.ca/event/day-4-137/
CATEGORIES:Full school Events
END:VEVENT
BEGIN:VEVENT
DTSTART;TZID=America/Toronto:20250116T100000
DTEND;TZID=America/Toronto:20250116T110000
DTSTAMP:20260424T042555
CREATED:20241114T235302Z
LAST-MODIFIED:20260423T210713Z
UID:82579-1737021600-1737025200@www.stgeorges.qc.ca
SUMMARY:ES: FULL School- No Excuses\, No Limits: Luca Lazylegz Patuelli &DJ inDgo
DESCRIPTION:Learning about Disability\, Inclusion and Resilience
URL:https://www.stgeorges.qc.ca/event/es-full-school-no-excuses-no-limits-luca-lazylegz-patuelli-dj-indgo/
LOCATION:ES GYM
CATEGORIES:Elementary School Events
END:VEVENT
BEGIN:VEVENT
DTSTART;TZID=America/Toronto:20250116T130000
DTEND;TZID=America/Toronto:20250116T140000
DTSTAMP:20260424T042555
CREATED:20241107T132508Z
LAST-MODIFIED:20260423T173814Z
UID:82510-1737032400-1737036000@www.stgeorges.qc.ca
SUMMARY:Dr. Teresa Rudkin Workshop (Gr.9to11)
DESCRIPTION:
URL:https://www.stgeorges.qc.ca/event/dr-teresa-rudkin-workshop-gr-9to11/
LOCATION:Room 216
CATEGORIES:High School Events
END:VEVENT
BEGIN:VEVENT
DTSTART;VALUE=DATE:20250117
DTEND;VALUE=DATE:20250118
DTSTAMP:20260424T042555
CREATED:20240822T052926Z
LAST-MODIFIED:20260423T235325Z
UID:81537-1737072000-1737158399@www.stgeorges.qc.ca
SUMMARY:Day 5
DESCRIPTION:
URL:https://www.stgeorges.qc.ca/event/day-5-133/
CATEGORIES:Full school Events
END:VEVENT
BEGIN:VEVENT
DTSTART;VALUE=DATE:20250117
DTEND;VALUE=DATE:20250119
DTSTAMP:20260424T042555
CREATED:20241126T170836Z
LAST-MODIFIED:20260423T173815Z
UID:82651-1737072000-1737244799@www.stgeorges.qc.ca
SUMMARY:MIS Basketball tournament
DESCRIPTION:
URL:https://www.stgeorges.qc.ca/event/mis-basketball-tournament/
LOCATION:HS GYM
CATEGORIES:High School Events
END:VEVENT
END:VCALENDAR