BEGIN:VCALENDAR
VERSION:2.0
PRODID:-//St. George&#039;s School of Montreal - ECPv6.15.11//NONSGML v1.0//EN
CALSCALE:GREGORIAN
METHOD:PUBLISH
X-ORIGINAL-URL:https://www.stgeorges.qc.ca
X-WR-CALDESC:Events for St. George&#039;s School of Montreal
REFRESH-INTERVAL;VALUE=DURATION:PT1H
X-Robots-Tag:noindex
X-PUBLISHED-TTL:PT1H
BEGIN:VTIMEZONE
TZID:America/Toronto
BEGIN:DAYLIGHT
TZOFFSETFROM:-0500
TZOFFSETTO:-0400
TZNAME:EDT
DTSTART:20230312T070000
END:DAYLIGHT
BEGIN:STANDARD
TZOFFSETFROM:-0400
TZOFFSETTO:-0500
TZNAME:EST
DTSTART:20231105T060000
END:STANDARD
BEGIN:DAYLIGHT
TZOFFSETFROM:-0500
TZOFFSETTO:-0400
TZNAME:EDT
DTSTART:20240310T070000
END:DAYLIGHT
BEGIN:STANDARD
TZOFFSETFROM:-0400
TZOFFSETTO:-0500
TZNAME:EST
DTSTART:20241103T060000
END:STANDARD
BEGIN:DAYLIGHT
TZOFFSETFROM:-0500
TZOFFSETTO:-0400
TZNAME:EDT
DTSTART:20250309T070000
END:DAYLIGHT
BEGIN:STANDARD
TZOFFSETFROM:-0400
TZOFFSETTO:-0500
TZNAME:EST
DTSTART:20251102T060000
END:STANDARD
BEGIN:DAYLIGHT
TZOFFSETFROM:-0500
TZOFFSETTO:-0400
TZNAME:EDT
DTSTART:20260308T070000
END:DAYLIGHT
BEGIN:STANDARD
TZOFFSETFROM:-0400
TZOFFSETTO:-0500
TZNAME:EST
DTSTART:20261101T060000
END:STANDARD
END:VTIMEZONE
BEGIN:VEVENT
DTSTART;VALUE=DATE:20241230
DTEND;VALUE=DATE:20241231
DTSTAMP:20260424T070417
CREATED:20240822T052908Z
LAST-MODIFIED:20260423T235301Z
UID:81521-1735516800-1735603199@www.stgeorges.qc.ca
SUMMARY:Winter Break; School & Offices Closed
DESCRIPTION:
URL:https://www.stgeorges.qc.ca/event/winter-break-school-offices-closed-26/
CATEGORIES:Full school Events
END:VEVENT
BEGIN:VEVENT
DTSTART;VALUE=DATE:20241231
DTEND;VALUE=DATE:20250101
DTSTAMP:20260424T070417
CREATED:20240822T052908Z
LAST-MODIFIED:20260423T235301Z
UID:81522-1735603200-1735689599@www.stgeorges.qc.ca
SUMMARY:Winter Break; School & Offices Closed
DESCRIPTION:
URL:https://www.stgeorges.qc.ca/event/winter-break-school-offices-closed-27/
CATEGORIES:Full school Events
END:VEVENT
BEGIN:VEVENT
DTSTART;VALUE=DATE:20250101
DTEND;VALUE=DATE:20250102
DTSTAMP:20260424T070417
CREATED:20240822T052909Z
LAST-MODIFIED:20260423T235301Z
UID:81523-1735689600-1735775999@www.stgeorges.qc.ca
SUMMARY:Winter Break; School & Offices Closed
DESCRIPTION:
URL:https://www.stgeorges.qc.ca/event/winter-break-school-offices-closed-28/
CATEGORIES:Full school Events
END:VEVENT
BEGIN:VEVENT
DTSTART;VALUE=DATE:20250102
DTEND;VALUE=DATE:20250103
DTSTAMP:20260424T070417
CREATED:20240822T052909Z
LAST-MODIFIED:20260423T235312Z
UID:81525-1735776000-1735862399@www.stgeorges.qc.ca
SUMMARY:Winter Break; School & Offices Closed
DESCRIPTION:
URL:https://www.stgeorges.qc.ca/event/winter-break-school-offices-closed-30/
CATEGORIES:Full school Events
END:VEVENT
BEGIN:VEVENT
DTSTART;VALUE=DATE:20250103
DTEND;VALUE=DATE:20250104
DTSTAMP:20260424T070417
CREATED:20240822T052909Z
LAST-MODIFIED:20260423T235312Z
UID:81524-1735862400-1735948799@www.stgeorges.qc.ca
SUMMARY:Winter Break; School & Offices Closed
DESCRIPTION:
URL:https://www.stgeorges.qc.ca/event/winter-break-school-offices-closed-29/
CATEGORIES:Full school Events
END:VEVENT
END:VCALENDAR