BEGIN:VCALENDAR
VERSION:2.0
PRODID:-//St. George&#039;s School of Montreal - ECPv6.15.11//NONSGML v1.0//EN
CALSCALE:GREGORIAN
METHOD:PUBLISH
X-ORIGINAL-URL:https://www.stgeorges.qc.ca
X-WR-CALDESC:Events for St. George&#039;s School of Montreal
REFRESH-INTERVAL;VALUE=DURATION:PT1H
X-Robots-Tag:noindex
X-PUBLISHED-TTL:PT1H
BEGIN:VTIMEZONE
TZID:America/Toronto
BEGIN:DAYLIGHT
TZOFFSETFROM:-0500
TZOFFSETTO:-0400
TZNAME:EDT
DTSTART:20240310T070000
END:DAYLIGHT
BEGIN:STANDARD
TZOFFSETFROM:-0400
TZOFFSETTO:-0500
TZNAME:EST
DTSTART:20241103T060000
END:STANDARD
BEGIN:DAYLIGHT
TZOFFSETFROM:-0500
TZOFFSETTO:-0400
TZNAME:EDT
DTSTART:20250309T070000
END:DAYLIGHT
BEGIN:STANDARD
TZOFFSETFROM:-0400
TZOFFSETTO:-0500
TZNAME:EST
DTSTART:20251102T060000
END:STANDARD
BEGIN:DAYLIGHT
TZOFFSETFROM:-0500
TZOFFSETTO:-0400
TZNAME:EDT
DTSTART:20260308T070000
END:DAYLIGHT
BEGIN:STANDARD
TZOFFSETFROM:-0400
TZOFFSETTO:-0500
TZNAME:EST
DTSTART:20261101T060000
END:STANDARD
END:VTIMEZONE
BEGIN:VEVENT
DTSTART;TZID=America/Toronto:20250204T093500
DTEND;TZID=America/Toronto:20250204T111500
DTSTAMP:20260424T042828
CREATED:20250114T182229Z
LAST-MODIFIED:20260423T235338Z
UID:82965-1738661700-1738667700@www.stgeorges.qc.ca
SUMMARY:Grade 6 and 8: Pinball Mayhem
DESCRIPTION:
URL:https://www.stgeorges.qc.ca/event/es-hs-all-grade-6-and-8-pinball-mayhem-2/
LOCATION:HS: Room 208\, 214\, 216
CATEGORIES:Elementary School Events,Full school Events
END:VEVENT
BEGIN:VEVENT
DTSTART;VALUE=DATE:20250205
DTEND;VALUE=DATE:20250206
DTSTAMP:20260424T042828
CREATED:20240822T052957Z
LAST-MODIFIED:20250203T235351Z
UID:81558-1738713600-1738799999@www.stgeorges.qc.ca
SUMMARY:February is Black History Month
DESCRIPTION:
URL:https://www.stgeorges.qc.ca/event/february-is-black-history-month-11/
CATEGORIES:Full school Events
END:VEVENT
BEGIN:VEVENT
DTSTART;VALUE=DATE:20250205
DTEND;VALUE=DATE:20250206
DTSTAMP:20260424T042828
CREATED:20240822T053011Z
LAST-MODIFIED:20260423T235338Z
UID:81561-1738713600-1738799999@www.stgeorges.qc.ca
SUMMARY:Day 8
DESCRIPTION:
URL:https://www.stgeorges.qc.ca/event/day-8-134/
CATEGORIES:Full school Events
END:VEVENT
BEGIN:VEVENT
DTSTART;TZID=America/Toronto:20250205T183000
DTEND;TZID=America/Toronto:20250205T200000
DTSTAMP:20260424T042828
CREATED:20240827T135137Z
LAST-MODIFIED:20260423T173840Z
UID:81841-1738780200-1738785600@www.stgeorges.qc.ca
SUMMARY:HS: Senior Winter Concert
DESCRIPTION:Location: High School Theatre\nWho: Grade 9\, 10\, 11\, and Senior Jazz Band music students.\nWhen: 6:30-7:30PM
URL:https://www.stgeorges.qc.ca/event/senior-winter-concert/
CATEGORIES:High School Events
END:VEVENT
BEGIN:VEVENT
DTSTART;VALUE=DATE:20250206
DTEND;VALUE=DATE:20250207
DTSTAMP:20260424T042828
CREATED:20240822T052957Z
LAST-MODIFIED:20250203T235351Z
UID:81557-1738800000-1738886399@www.stgeorges.qc.ca
SUMMARY:February is Black History Month
DESCRIPTION:
URL:https://www.stgeorges.qc.ca/event/february-is-black-history-month-10/
CATEGORIES:Full school Events
END:VEVENT
BEGIN:VEVENT
DTSTART;VALUE=DATE:20250206
DTEND;VALUE=DATE:20250207
DTSTAMP:20260424T042828
CREATED:20240822T052958Z
LAST-MODIFIED:20260423T235350Z
UID:81560-1738800000-1738886399@www.stgeorges.qc.ca
SUMMARY:Day 9
DESCRIPTION:
URL:https://www.stgeorges.qc.ca/event/day-9-127/
CATEGORIES:Full school Events
END:VEVENT
BEGIN:VEVENT
DTSTART;TZID=America/Toronto:20250206T083000
DTEND;TZID=America/Toronto:20250206T093000
DTSTAMP:20260424T042828
CREATED:20250205T212344Z
LAST-MODIFIED:20260423T173840Z
UID:83208-1738830600-1738834200@www.stgeorges.qc.ca
SUMMARY:HS-Grade 9: Jen DeLeskie visits Grade 9 Writer’s Voice
DESCRIPTION:
URL:https://www.stgeorges.qc.ca/event/hs-grade-9-jen-deleskie-visits-grade-9-writers-voice/
LOCATION:Room 401
CATEGORIES:High School Events
END:VEVENT
BEGIN:VEVENT
DTSTART;TZID=America/Toronto:20250206T084500
DTEND;TZID=America/Toronto:20250206T111500
DTSTAMP:20260424T042828
CREATED:20241217T212232Z
LAST-MODIFIED:20260423T210727Z
UID:82792-1738831500-1738840500@www.stgeorges.qc.ca
SUMMARY:ES - Grades K\,1\,2\,3: Nadia L. Hohn Author Visit
DESCRIPTION:
URL:https://www.stgeorges.qc.ca/event/es-grades-k123-nadia-l-hohn-author-visit/
LOCATION:ES Library
CATEGORIES:Elementary School Events
END:VEVENT
BEGIN:VEVENT
DTSTART;TZID=America/Toronto:20250206T111500
DTEND;TZID=America/Toronto:20250206T134000
DTSTAMP:20260424T042828
CREATED:20250123T182356Z
LAST-MODIFIED:20260423T173841Z
UID:83067-1738840500-1738849200@www.stgeorges.qc.ca
SUMMARY:HS-Grades 7 & 8: Sock-er
DESCRIPTION:
URL:https://www.stgeorges.qc.ca/event/hs-grades-7-8-sock-er/
CATEGORIES:High School Events
END:VEVENT
BEGIN:VEVENT
DTSTART;TZID=America/Toronto:20250206T140000
DTEND;TZID=America/Toronto:20250206T220000
DTSTAMP:20260424T042828
CREATED:20240918T162220Z
LAST-MODIFIED:20260423T173841Z
UID:81996-1738850400-1738879200@www.stgeorges.qc.ca
SUMMARY:HS Ski trip (Cancelled)
DESCRIPTION:
URL:https://www.stgeorges.qc.ca/event/hs-ski-trip-13/
LOCATION:Sommet Saint Sauveur\, 655 Ch. Louis-Dufour\, Saint-Sauveur\, QC J0R 1R3\, Canada
CATEGORIES:High School Events
END:VEVENT
BEGIN:VEVENT
DTSTART;TZID=America/Toronto:20250206T164500
DTEND;TZID=America/Toronto:20250206T183000
DTSTAMP:20260424T042828
CREATED:20250203T205354Z
LAST-MODIFIED:20260423T173841Z
UID:83178-1738860300-1738866600@www.stgeorges.qc.ca
SUMMARY:HS: Parent Grad Gift Grade 11 2024 Stewardship
DESCRIPTION:
URL:https://www.stgeorges.qc.ca/event/hs-parent-grad-gift-grade-11-2024-stewardship/
CATEGORIES:High School Events
END:VEVENT
BEGIN:VEVENT
DTSTART;VALUE=DATE:20250207
DTEND;VALUE=DATE:20250208
DTSTAMP:20260424T042828
CREATED:20240822T052957Z
LAST-MODIFIED:20260423T235350Z
UID:81556-1738886400-1738972799@www.stgeorges.qc.ca
SUMMARY:Day 10
DESCRIPTION:
URL:https://www.stgeorges.qc.ca/event/day-10-131/
CATEGORIES:Full school Events
END:VEVENT
BEGIN:VEVENT
DTSTART;VALUE=DATE:20250207
DTEND;VALUE=DATE:20250208
DTSTAMP:20260424T042828
CREATED:20240822T052957Z
LAST-MODIFIED:20250203T235351Z
UID:81559-1738886400-1738972799@www.stgeorges.qc.ca
SUMMARY:February is Black History Month
DESCRIPTION:
URL:https://www.stgeorges.qc.ca/event/february-is-black-history-month-12/
CATEGORIES:Full school Events
END:VEVENT
BEGIN:VEVENT
DTSTART;VALUE=DATE:20250207
DTEND;VALUE=DATE:20250208
DTSTAMP:20260424T042828
CREATED:20240822T053012Z
LAST-MODIFIED:20260423T235350Z
UID:81563-1738886400-1738972799@www.stgeorges.qc.ca
SUMMARY:PED Day
DESCRIPTION:
URL:https://www.stgeorges.qc.ca/event/ped-day-53/
CATEGORIES:Full school Events
END:VEVENT
BEGIN:VEVENT
DTSTART;VALUE=DATE:20250207
DTEND;VALUE=DATE:20250208
DTSTAMP:20260424T042828
CREATED:20240822T114641Z
LAST-MODIFIED:20260423T173841Z
UID:81788-1738886400-1738972799@www.stgeorges.qc.ca
SUMMARY:HS Community Learning Day
DESCRIPTION:
URL:https://www.stgeorges.qc.ca/event/hs-community-learning-day-22/
CATEGORIES:High School Events
END:VEVENT
BEGIN:VEVENT
DTSTART;VALUE=DATE:20250208
DTEND;VALUE=DATE:20250209
DTSTAMP:20260424T042828
CREATED:20240822T053011Z
LAST-MODIFIED:20250203T235351Z
UID:81562-1738972800-1739059199@www.stgeorges.qc.ca
SUMMARY:February is Black History Month
DESCRIPTION:
URL:https://www.stgeorges.qc.ca/event/february-is-black-history-month-13/
CATEGORIES:Full school Events
END:VEVENT
BEGIN:VEVENT
DTSTART;VALUE=DATE:20250209
DTEND;VALUE=DATE:20250210
DTSTAMP:20260424T042828
CREATED:20240822T053012Z
LAST-MODIFIED:20250203T235404Z
UID:81565-1739059200-1739145599@www.stgeorges.qc.ca
SUMMARY:February is Black History Month
DESCRIPTION:
URL:https://www.stgeorges.qc.ca/event/february-is-black-history-month-14/
CATEGORIES:Full school Events
END:VEVENT
BEGIN:VEVENT
DTSTART;VALUE=DATE:20250210
DTEND;VALUE=DATE:20250211
DTSTAMP:20260424T042828
CREATED:20240822T053012Z
LAST-MODIFIED:20260423T235350Z
UID:81564-1739145600-1739231999@www.stgeorges.qc.ca
SUMMARY:Mid Winter Break; School & Offices Closed
DESCRIPTION:
URL:https://www.stgeorges.qc.ca/event/mid-winter-break-school-offices-closed-3/
CATEGORIES:Full school Events
END:VEVENT
BEGIN:VEVENT
DTSTART;VALUE=DATE:20250210
DTEND;VALUE=DATE:20250211
DTSTAMP:20260424T042828
CREATED:20240822T053013Z
LAST-MODIFIED:20250203T235403Z
UID:81567-1739145600-1739231999@www.stgeorges.qc.ca
SUMMARY:February is Black History Month
DESCRIPTION:
URL:https://www.stgeorges.qc.ca/event/february-is-black-history-month-16/
CATEGORIES:Full school Events
END:VEVENT
BEGIN:VEVENT
DTSTART;VALUE=DATE:20250210
DTEND;VALUE=DATE:20250211
DTSTAMP:20260424T042828
CREATED:20240822T053013Z
LAST-MODIFIED:20260423T235350Z
UID:81569-1739145600-1739231999@www.stgeorges.qc.ca
SUMMARY:Day 1
DESCRIPTION:
URL:https://www.stgeorges.qc.ca/event/day-1-132/
CATEGORIES:Full school Events
END:VEVENT
BEGIN:VEVENT
DTSTART;VALUE=DATE:20250211
DTEND;VALUE=DATE:20250212
DTSTAMP:20260424T042828
CREATED:20240822T053012Z
LAST-MODIFIED:20250203T235404Z
UID:81566-1739232000-1739318399@www.stgeorges.qc.ca
SUMMARY:February is Black History Month
DESCRIPTION:
URL:https://www.stgeorges.qc.ca/event/february-is-black-history-month-15/
CATEGORIES:Full school Events
END:VEVENT
BEGIN:VEVENT
DTSTART;VALUE=DATE:20250211
DTEND;VALUE=DATE:20250212
DTSTAMP:20260424T042828
CREATED:20240822T053013Z
LAST-MODIFIED:20260423T235350Z
UID:81568-1739232000-1739318399@www.stgeorges.qc.ca
SUMMARY:Day 2
DESCRIPTION:
URL:https://www.stgeorges.qc.ca/event/day-2-127/
CATEGORIES:Full school Events
END:VEVENT
BEGIN:VEVENT
DTSTART;TZID=America/Toronto:20250211T083000
DTEND;TZID=America/Toronto:20250211T093000
DTSTAMP:20260424T042828
CREATED:20241126T170904Z
LAST-MODIFIED:20260423T173841Z
UID:82654-1739262600-1739266200@www.stgeorges.qc.ca
SUMMARY:Grade 7 & 11- BHM Presentation: Unpacking the N-Word
DESCRIPTION:
URL:https://www.stgeorges.qc.ca/event/grade-7-11-bhm-presentation-unpacking-the-n-word/
LOCATION:HS GYM
CATEGORIES:High School Events
END:VEVENT
BEGIN:VEVENT
DTSTART;TZID=America/Toronto:20250211T094500
DTEND;TZID=America/Toronto:20250211T112500
DTSTAMP:20260424T042828
CREATED:20250128T202226Z
LAST-MODIFIED:20260423T210727Z
UID:83085-1739267100-1739273100@www.stgeorges.qc.ca
SUMMARY:ES- Grade 5: Sortie a la bibliothèque
DESCRIPTION:
URL:https://www.stgeorges.qc.ca/event/es-grade-5-sortie-a-la-bibliotheque/
LOCATION:4574 Rue Sherbrooke O\, Westmount\, QC H3Z 1G1\, Canada
CATEGORIES:Elementary School Events
END:VEVENT
BEGIN:VEVENT
DTSTART;TZID=America/Toronto:20250211T100000
DTEND;TZID=America/Toronto:20250211T111500
DTSTAMP:20260424T042828
CREATED:20241126T170905Z
LAST-MODIFIED:20260423T173841Z
UID:82655-1739268000-1739272500@www.stgeorges.qc.ca
SUMMARY:Grade 8\,9 & 10- BHM Presentation: Tracking Black Canada
DESCRIPTION:
URL:https://www.stgeorges.qc.ca/event/grade-89-10-bhm-presentation-tracking-black-canada/
LOCATION:HS GYM
CATEGORIES:High School Events
END:VEVENT
BEGIN:VEVENT
DTSTART;TZID=America/Toronto:20250211T124500
DTEND;TZID=America/Toronto:20250211T134500
DTSTAMP:20260424T042828
CREATED:20241210T205225Z
LAST-MODIFIED:20260423T210727Z
UID:82744-1739277900-1739281500@www.stgeorges.qc.ca
SUMMARY:ES- Grades "P" is for Priviledge
DESCRIPTION:
URL:https://www.stgeorges.qc.ca/event/es-grades-p-is-for-priviledge/
CATEGORIES:Elementary School Events
END:VEVENT
BEGIN:VEVENT
DTSTART;VALUE=DATE:20250212
DTEND;VALUE=DATE:20250213
DTSTAMP:20260424T042828
CREATED:20240822T053029Z
LAST-MODIFIED:20260423T235350Z
UID:81574-1739318400-1739404799@www.stgeorges.qc.ca
SUMMARY:Day 3
DESCRIPTION:
URL:https://www.stgeorges.qc.ca/event/day-3-128/
CATEGORIES:Full school Events
END:VEVENT
BEGIN:VEVENT
DTSTART;VALUE=DATE:20250212
DTEND;VALUE=DATE:20250213
DTSTAMP:20260424T042828
CREATED:20240822T053029Z
LAST-MODIFIED:20250203T235404Z
UID:81575-1739318400-1739404799@www.stgeorges.qc.ca
SUMMARY:February is Black History Month
DESCRIPTION:
URL:https://www.stgeorges.qc.ca/event/february-is-black-history-month-19/
CATEGORIES:Full school Events
END:VEVENT
BEGIN:VEVENT
DTSTART;VALUE=DATE:20250212
DTEND;VALUE=DATE:20250213
DTSTAMP:20260424T042828
CREATED:20241202T195218Z
LAST-MODIFIED:20260423T210727Z
UID:82703-1739318400-1739404799@www.stgeorges.qc.ca
SUMMARY:ES-K: Kindergarten's 100th day of School
DESCRIPTION:
URL:https://www.stgeorges.qc.ca/event/es-k-kindergartens-100th-day-of-school/
CATEGORIES:Elementary School Events
END:VEVENT
BEGIN:VEVENT
DTSTART;TZID=America/Toronto:20250212T083000
DTEND;TZID=America/Toronto:20250212T100000
DTSTAMP:20260424T042828
CREATED:20250128T202226Z
LAST-MODIFIED:20250210T222233Z
UID:83086-1739349000-1739354400@www.stgeorges.qc.ca
SUMMARY:ES- Grade 5: Sortie a la bibliothèque
DESCRIPTION:
URL:https://www.stgeorges.qc.ca/event/es-grade-5-sortie-a-la-bibliotheque-2/
LOCATION:4574 Rue Sherbrooke O\, Westmount\, QC H3Z 1G1\, Canada
CATEGORIES:Elementary School Events
END:VEVENT
END:VCALENDAR