BEGIN:VCALENDAR
VERSION:2.0
PRODID:-//St. George&#039;s School of Montreal - ECPv6.15.11//NONSGML v1.0//EN
CALSCALE:GREGORIAN
METHOD:PUBLISH
X-WR-CALNAME:St. George&#039;s School of Montreal
X-ORIGINAL-URL:https://www.stgeorges.qc.ca
X-WR-CALDESC:Events for St. George&#039;s School of Montreal
REFRESH-INTERVAL;VALUE=DURATION:PT1H
X-Robots-Tag:noindex
X-PUBLISHED-TTL:PT1H
BEGIN:VTIMEZONE
TZID:America/Toronto
BEGIN:DAYLIGHT
TZOFFSETFROM:-0500
TZOFFSETTO:-0400
TZNAME:EDT
DTSTART:20240310T070000
END:DAYLIGHT
BEGIN:STANDARD
TZOFFSETFROM:-0400
TZOFFSETTO:-0500
TZNAME:EST
DTSTART:20241103T060000
END:STANDARD
BEGIN:DAYLIGHT
TZOFFSETFROM:-0500
TZOFFSETTO:-0400
TZNAME:EDT
DTSTART:20250309T070000
END:DAYLIGHT
BEGIN:STANDARD
TZOFFSETFROM:-0400
TZOFFSETTO:-0500
TZNAME:EST
DTSTART:20251102T060000
END:STANDARD
BEGIN:DAYLIGHT
TZOFFSETFROM:-0500
TZOFFSETTO:-0400
TZNAME:EDT
DTSTART:20260308T070000
END:DAYLIGHT
BEGIN:STANDARD
TZOFFSETFROM:-0400
TZOFFSETTO:-0500
TZNAME:EST
DTSTART:20261101T060000
END:STANDARD
END:VTIMEZONE
BEGIN:VEVENT
DTSTART;VALUE=DATE:20250117
DTEND;VALUE=DATE:20250119
DTSTAMP:20260424T094401
CREATED:20241126T170836Z
LAST-MODIFIED:20260423T173815Z
UID:82651-1737072000-1737244799@www.stgeorges.qc.ca
SUMMARY:MIS Basketball tournament
DESCRIPTION:
URL:https://www.stgeorges.qc.ca/event/mis-basketball-tournament/
LOCATION:HS GYM
CATEGORIES:High School Events
END:VEVENT
BEGIN:VEVENT
DTSTART;VALUE=DATE:20250120
DTEND;VALUE=DATE:20250121
DTSTAMP:20260424T094401
CREATED:20240822T052926Z
LAST-MODIFIED:20260423T235325Z
UID:81538-1737331200-1737417599@www.stgeorges.qc.ca
SUMMARY:Day 6
DESCRIPTION:
URL:https://www.stgeorges.qc.ca/event/day-6-132/
CATEGORIES:Full school Events
END:VEVENT
BEGIN:VEVENT
DTSTART;TZID=America/Toronto:20250120T091500
DTEND;TZID=America/Toronto:20250120T130000
DTSTAMP:20260424T094401
CREATED:20241216T210718Z
LAST-MODIFIED:20260423T210713Z
UID:82780-1737364500-1737378000@www.stgeorges.qc.ca
SUMMARY:ES-Grade 4: Visit to Lachine Sorting Center
DESCRIPTION:
URL:https://www.stgeorges.qc.ca/event/es-grade-4-visit-to-lachine-sorting-center/
LOCATION:1131 Rue François Lenoir\, Lachine\, QC H8T 3P9\, Canada
CATEGORIES:Elementary School Events
END:VEVENT
BEGIN:VEVENT
DTSTART;VALUE=DATE:20250121
DTEND;VALUE=DATE:20250122
DTSTAMP:20260424T094401
CREATED:20240822T052927Z
LAST-MODIFIED:20260423T235325Z
UID:81540-1737417600-1737503999@www.stgeorges.qc.ca
SUMMARY:Day 7
DESCRIPTION:
URL:https://www.stgeorges.qc.ca/event/day-7-120/
CATEGORIES:Full school Events
END:VEVENT
BEGIN:VEVENT
DTSTART;TZID=America/Toronto:20250121T083000
DTEND;TZID=America/Toronto:20250121T094500
DTSTAMP:20260424T094401
CREATED:20250107T145337Z
LAST-MODIFIED:20260423T173815Z
UID:82921-1737448200-1737452700@www.stgeorges.qc.ca
SUMMARY:HS Full-School Assembly with Guest Speaker(virtual); St. G's welcome alumnus Shawn Levy '85
DESCRIPTION:
URL:https://www.stgeorges.qc.ca/event/hs-full-school-assembly-with-guest-speakervirtual-st-gs-welcome-alumnus-shawn-levy-85/
LOCATION:HS GYM
CATEGORIES:High School Events
END:VEVENT
BEGIN:VEVENT
DTSTART;TZID=America/Toronto:20250121T083000
DTEND;TZID=America/Toronto:20250121T111500
DTSTAMP:20260424T094401
CREATED:20241202T195217Z
LAST-MODIFIED:20260423T210714Z
UID:82697-1737448200-1737458100@www.stgeorges.qc.ca
SUMMARY:ES-Grade 5: Graphic Novel Writing
DESCRIPTION:
URL:https://www.stgeorges.qc.ca/event/es-grade-5-graphic-novel-writing-2/
LOCATION:Grade 5 Classroom
CATEGORIES:Elementary School Events
END:VEVENT
BEGIN:VEVENT
DTSTART;TZID=America/Toronto:20250121T190000
DTEND;TZID=America/Toronto:20250121T213000
DTSTAMP:20260424T094401
CREATED:20241015T210734Z
LAST-MODIFIED:20250108T150825Z
UID:82240-1737486000-1737495000@www.stgeorges.qc.ca
SUMMARY:TBC High School Play
DESCRIPTION:
URL:https://www.stgeorges.qc.ca/event/tbc-high-school-play/
CATEGORIES:High School Events
END:VEVENT
BEGIN:VEVENT
DTSTART;VALUE=DATE:20250122
DTEND;VALUE=DATE:20250123
DTSTAMP:20260424T094401
CREATED:20240822T052927Z
LAST-MODIFIED:20260423T235325Z
UID:81539-1737504000-1737590399@www.stgeorges.qc.ca
SUMMARY:Day 8
DESCRIPTION:
URL:https://www.stgeorges.qc.ca/event/day-8-133/
CATEGORIES:Full school Events
END:VEVENT
BEGIN:VEVENT
DTSTART;TZID=America/Toronto:20250122T093500
DTEND;TZID=America/Toronto:20250122T100000
DTSTAMP:20260424T094401
CREATED:20250121T180824Z
LAST-MODIFIED:20260423T173815Z
UID:83056-1737538500-1737540000@www.stgeorges.qc.ca
SUMMARY:HS-Grades 9 & 10: Student Assembly
DESCRIPTION:
URL:https://www.stgeorges.qc.ca/event/hs-grades-9-10-student-assembly/
CATEGORIES:High School Events
END:VEVENT
BEGIN:VEVENT
DTSTART;TZID=America/Toronto:20250122T190000
DTEND;TZID=America/Toronto:20250122T213000
DTSTAMP:20260424T094401
CREATED:20241015T210747Z
LAST-MODIFIED:20250108T150825Z
UID:82241-1737572400-1737581400@www.stgeorges.qc.ca
SUMMARY:TBC High School Play
DESCRIPTION:
URL:https://www.stgeorges.qc.ca/event/tbc-high-school-play-2/
CATEGORIES:High School Events
END:VEVENT
BEGIN:VEVENT
DTSTART;TZID=America/Toronto:20250122T190000
DTEND;TZID=America/Toronto:20250122T213000
DTSTAMP:20260424T094401
CREATED:20250109T152332Z
LAST-MODIFIED:20250115T165321Z
UID:82933-1737572400-1737581400@www.stgeorges.qc.ca
SUMMARY:High School Play
DESCRIPTION:
URL:https://www.stgeorges.qc.ca/event/high-school-play/
CATEGORIES:High School Events
END:VEVENT
BEGIN:VEVENT
DTSTART;TZID=America/Toronto:20250122T193000
DTEND;TZID=America/Toronto:20250122T213000
DTSTAMP:20260424T094401
CREATED:20250116T170825Z
LAST-MODIFIED:20260423T173815Z
UID:82980-1737574200-1737581400@www.stgeorges.qc.ca
SUMMARY:High School Play
DESCRIPTION:
URL:https://www.stgeorges.qc.ca/event/high-school-play-4/
CATEGORIES:High School Events
END:VEVENT
BEGIN:VEVENT
DTSTART;VALUE=DATE:20250123
DTEND;VALUE=DATE:20250124
DTSTAMP:20260424T094401
CREATED:20240822T052942Z
LAST-MODIFIED:20260423T235325Z
UID:81542-1737590400-1737676799@www.stgeorges.qc.ca
SUMMARY:Day 9
DESCRIPTION:
URL:https://www.stgeorges.qc.ca/event/day-9-126/
CATEGORIES:Full school Events
END:VEVENT
BEGIN:VEVENT
DTSTART;TZID=America/Toronto:20250123T081500
DTEND;TZID=America/Toronto:20250123T084500
DTSTAMP:20260424T094401
CREATED:20240919T183632Z
LAST-MODIFIED:20260423T210714Z
UID:82007-1737620100-1737621900@www.stgeorges.qc.ca
SUMMARY:Neurodiversity Celebration Week
DESCRIPTION:
URL:https://www.stgeorges.qc.ca/event/neurodiversity-celebration-week-2/
CATEGORIES:Elementary School Events
END:VEVENT
BEGIN:VEVENT
DTSTART;TZID=America/Toronto:20250123T081500
DTEND;TZID=America/Toronto:20250123T120000
DTSTAMP:20260424T094401
CREATED:20241129T175349Z
LAST-MODIFIED:20260423T173815Z
UID:82684-1737620100-1737633600@www.stgeorges.qc.ca
SUMMARY:HS- Grade 9: CPR / AED Training
DESCRIPTION:
URL:https://www.stgeorges.qc.ca/event/hs-grade-9-cpr-aed-training/
LOCATION:HS GYM
CATEGORIES:High School Events
END:VEVENT
BEGIN:VEVENT
DTSTART;TZID=America/Toronto:20250123T154500
DTEND;TZID=America/Toronto:20250123T163000
DTSTAMP:20260424T094401
CREATED:20250114T182216Z
LAST-MODIFIED:20260423T210714Z
UID:82963-1737647100-1737649800@www.stgeorges.qc.ca
SUMMARY:ES-Grade 4 Meet and Greet: New Grade 4 teacher Frederic
DESCRIPTION:
URL:https://www.stgeorges.qc.ca/event/es-grade-4-meet-and-greet-new-grade-4-teacher-frederic/
LOCATION:Grade 4 Homeroom Class
CATEGORIES:Elementary School Events
END:VEVENT
BEGIN:VEVENT
DTSTART;TZID=America/Toronto:20250123T190000
DTEND;TZID=America/Toronto:20250123T213000
DTSTAMP:20260424T094401
CREATED:20241015T210748Z
LAST-MODIFIED:20250108T150825Z
UID:82242-1737658800-1737667800@www.stgeorges.qc.ca
SUMMARY:TBC High School Play
DESCRIPTION:
URL:https://www.stgeorges.qc.ca/event/tbc-high-school-play-3/
CATEGORIES:High School Events
END:VEVENT
BEGIN:VEVENT
DTSTART;TZID=America/Toronto:20250123T190000
DTEND;TZID=America/Toronto:20250123T213000
DTSTAMP:20260424T094401
CREATED:20250109T152333Z
LAST-MODIFIED:20250115T165321Z
UID:82934-1737658800-1737667800@www.stgeorges.qc.ca
SUMMARY:High School Play
DESCRIPTION:
URL:https://www.stgeorges.qc.ca/event/high-school-play-2/
CATEGORIES:High School Events
END:VEVENT
BEGIN:VEVENT
DTSTART;TZID=America/Toronto:20250123T193000
DTEND;TZID=America/Toronto:20250123T213000
DTSTAMP:20260424T094401
CREATED:20250116T170826Z
LAST-MODIFIED:20260423T173815Z
UID:82981-1737660600-1737667800@www.stgeorges.qc.ca
SUMMARY:High School Play
DESCRIPTION:
URL:https://www.stgeorges.qc.ca/event/high-school-play-5/
CATEGORIES:High School Events
END:VEVENT
BEGIN:VEVENT
DTSTART;VALUE=DATE:20250124
DTEND;VALUE=DATE:20250125
DTSTAMP:20260424T094401
CREATED:20240822T052941Z
LAST-MODIFIED:20260423T235325Z
UID:81541-1737676800-1737763199@www.stgeorges.qc.ca
SUMMARY:Day 10
DESCRIPTION:
URL:https://www.stgeorges.qc.ca/event/day-10-130/
CATEGORIES:Full school Events
END:VEVENT
BEGIN:VEVENT
DTSTART;VALUE=DATE:20250124
DTEND;VALUE=DATE:20250126
DTSTAMP:20260424T094401
CREATED:20241126T170850Z
LAST-MODIFIED:20260423T173827Z
UID:82652-1737676800-1737849599@www.stgeorges.qc.ca
SUMMARY:Bishops Juvenile Basketball Tournament
DESCRIPTION:
URL:https://www.stgeorges.qc.ca/event/bishops-juvenile-basketball-tournament/
CATEGORIES:High School Events
END:VEVENT
BEGIN:VEVENT
DTSTART;TZID=America/Toronto:20250124T093500
DTEND;TZID=America/Toronto:20250124T100000
DTSTAMP:20260424T094401
CREATED:20250121T180825Z
LAST-MODIFIED:20260423T173815Z
UID:83057-1737711300-1737712800@www.stgeorges.qc.ca
SUMMARY:HS-Grades 6\,7 & 8: Student Assembly
DESCRIPTION:
URL:https://www.stgeorges.qc.ca/event/hs-grades-67-8-student-assembly/
CATEGORIES:High School Events
END:VEVENT
BEGIN:VEVENT
DTSTART;TZID=America/Toronto:20250124T190000
DTEND;TZID=America/Toronto:20250124T213000
DTSTAMP:20260424T094401
CREATED:20241015T210748Z
LAST-MODIFIED:20250108T150825Z
UID:82243-1737745200-1737754200@www.stgeorges.qc.ca
SUMMARY:TBC High School Play
DESCRIPTION:
URL:https://www.stgeorges.qc.ca/event/tbc-high-school-play-4/
CATEGORIES:High School Events
END:VEVENT
BEGIN:VEVENT
DTSTART;TZID=America/Toronto:20250124T190000
DTEND;TZID=America/Toronto:20250124T213000
DTSTAMP:20260424T094401
CREATED:20250109T152333Z
LAST-MODIFIED:20250115T165321Z
UID:82935-1737745200-1737754200@www.stgeorges.qc.ca
SUMMARY:High School Play
DESCRIPTION:
URL:https://www.stgeorges.qc.ca/event/high-school-play-3/
CATEGORIES:High School Events
END:VEVENT
BEGIN:VEVENT
DTSTART;TZID=America/Toronto:20250124T193000
DTEND;TZID=America/Toronto:20250124T213000
DTSTAMP:20260424T094401
CREATED:20250116T170826Z
LAST-MODIFIED:20260423T173827Z
UID:82982-1737747000-1737754200@www.stgeorges.qc.ca
SUMMARY:High School Play
DESCRIPTION:
URL:https://www.stgeorges.qc.ca/event/high-school-play-6/
CATEGORIES:High School Events
END:VEVENT
BEGIN:VEVENT
DTSTART;TZID=America/Toronto:20250126T083000
DTEND;TZID=America/Toronto:20250126T170000
DTSTAMP:20260424T094401
CREATED:20240822T052944Z
LAST-MODIFIED:20260423T235326Z
UID:81550-1737880200-1737910800@www.stgeorges.qc.ca
SUMMARY:World Scholar's Cup
DESCRIPTION:
URL:https://www.stgeorges.qc.ca/event/world-scholars-cup-10/
LOCATION:Selwyn House School
CATEGORIES:Full school Events
END:VEVENT
BEGIN:VEVENT
DTSTART;VALUE=DATE:20250127
DTEND;VALUE=DATE:20250128
DTSTAMP:20260424T094401
CREATED:20240822T052942Z
LAST-MODIFIED:20260423T235337Z
UID:81544-1737936000-1738022399@www.stgeorges.qc.ca
SUMMARY:Day 1
DESCRIPTION:
URL:https://www.stgeorges.qc.ca/event/day-1-131/
CATEGORIES:Full school Events
END:VEVENT
BEGIN:VEVENT
DTSTART;TZID=America/Toronto:20250127T083000
DTEND;TZID=America/Toronto:20250127T180000
DTSTAMP:20260424T094401
CREATED:20240822T052956Z
LAST-MODIFIED:20260423T235337Z
UID:81552-1737966600-1738000800@www.stgeorges.qc.ca
SUMMARY:World Scholar's Cup
DESCRIPTION:
URL:https://www.stgeorges.qc.ca/event/world-scholars-cup-11/
LOCATION:Selwyn House School
CATEGORIES:Full school Events
END:VEVENT
BEGIN:VEVENT
DTSTART;TZID=America/Toronto:20250127T164500
DTEND;TZID=America/Toronto:20250127T184500
DTSTAMP:20260424T094401
CREATED:20250117T172330Z
LAST-MODIFIED:20250127T190845Z
UID:83034-1737996300-1738003500@www.stgeorges.qc.ca
SUMMARY:HS-Basketball Game & Pizza Party:Stewardship Gr.11 Grad Gift 2024
DESCRIPTION:
URL:https://www.stgeorges.qc.ca/event/hs-basketball-game-pizza-partystewardship-gr-11-grad-gift-2024/
CATEGORIES:High School Events
END:VEVENT
BEGIN:VEVENT
DTSTART;VALUE=DATE:20250128
DTEND;VALUE=DATE:20250129
DTSTAMP:20260424T094401
CREATED:20240822T052942Z
LAST-MODIFIED:20260423T235337Z
UID:81543-1738022400-1738108799@www.stgeorges.qc.ca
SUMMARY:Day 2
DESCRIPTION:
URL:https://www.stgeorges.qc.ca/event/day-2-126/
CATEGORIES:Full school Events
END:VEVENT
END:VCALENDAR