BEGIN:VCALENDAR
VERSION:2.0
PRODID:-//St. George&#039;s School of Montreal - ECPv6.15.11//NONSGML v1.0//EN
CALSCALE:GREGORIAN
METHOD:PUBLISH
X-WR-CALNAME:St. George&#039;s School of Montreal
X-ORIGINAL-URL:https://www.stgeorges.qc.ca
X-WR-CALDESC:Events for St. George&#039;s School of Montreal
REFRESH-INTERVAL;VALUE=DURATION:PT1H
X-Robots-Tag:noindex
X-PUBLISHED-TTL:PT1H
BEGIN:VTIMEZONE
TZID:America/Toronto
BEGIN:DAYLIGHT
TZOFFSETFROM:-0500
TZOFFSETTO:-0400
TZNAME:EDT
DTSTART:20230312T070000
END:DAYLIGHT
BEGIN:STANDARD
TZOFFSETFROM:-0400
TZOFFSETTO:-0500
TZNAME:EST
DTSTART:20231105T060000
END:STANDARD
BEGIN:DAYLIGHT
TZOFFSETFROM:-0500
TZOFFSETTO:-0400
TZNAME:EDT
DTSTART:20240310T070000
END:DAYLIGHT
BEGIN:STANDARD
TZOFFSETFROM:-0400
TZOFFSETTO:-0500
TZNAME:EST
DTSTART:20241103T060000
END:STANDARD
BEGIN:DAYLIGHT
TZOFFSETFROM:-0500
TZOFFSETTO:-0400
TZNAME:EDT
DTSTART:20250309T070000
END:DAYLIGHT
BEGIN:STANDARD
TZOFFSETFROM:-0400
TZOFFSETTO:-0500
TZNAME:EST
DTSTART:20251102T060000
END:STANDARD
END:VTIMEZONE
BEGIN:VEVENT
DTSTART;VALUE=DATE:20241220
DTEND;VALUE=DATE:20241221
DTSTAMP:20260424T071951
CREATED:20240822T052853Z
LAST-MODIFIED:20260423T235300Z
UID:81515-1734652800-1734739199@www.stgeorges.qc.ca
SUMMARY:Day 5
DESCRIPTION:
URL:https://www.stgeorges.qc.ca/event/day-5-132/
CATEGORIES:Full school Events
END:VEVENT
BEGIN:VEVENT
DTSTART;VALUE=DATE:20241220
DTEND;VALUE=DATE:20241221
DTSTAMP:20260424T071951
CREATED:20240822T052852Z
LAST-MODIFIED:20260423T235248Z
UID:81511-1734652800-1734739199@www.stgeorges.qc.ca
SUMMARY:K-Gr 8; Half Day/No Lunch
DESCRIPTION:
URL:https://www.stgeorges.qc.ca/event/k-gr-8-half-day-no-lunch/
CATEGORIES:Full school Events
END:VEVENT
BEGIN:VEVENT
DTSTART;VALUE=DATE:20241220
DTEND;VALUE=DATE:20241221
DTSTAMP:20260424T071951
CREATED:20240822T052852Z
LAST-MODIFIED:20260423T235300Z
UID:81514-1734652800-1734739199@www.stgeorges.qc.ca
SUMMARY:School & Offices Close at 1:30pm
DESCRIPTION:
URL:https://www.stgeorges.qc.ca/event/school-offices-close-at-130pm/
CATEGORIES:Full school Events
END:VEVENT
BEGIN:VEVENT
DTSTART;TZID=America/Toronto:20241219T133000
DTEND;TZID=America/Toronto:20241219T151500
DTSTAMP:20260424T071951
CREATED:20241216T210716Z
LAST-MODIFIED:20260423T210713Z
UID:82778-1734615000-1734621300@www.stgeorges.qc.ca
SUMMARY:ES - Grades 1 to 4: Celebration d'hiver des partenaires de lectures
DESCRIPTION:
URL:https://www.stgeorges.qc.ca/event/es-grades-1-to-4-celebration-dhiver-des-partenaires-de-lectures/
CATEGORIES:Elementary School Events
END:VEVENT
BEGIN:VEVENT
DTSTART;VALUE=DATE:20241219
DTEND;VALUE=DATE:20241220
DTSTAMP:20260424T071951
CREATED:20240822T114640Z
LAST-MODIFIED:20260423T173802Z
UID:81786-1734566400-1734652799@www.stgeorges.qc.ca
SUMMARY:HS Exam Period
DESCRIPTION:
URL:https://www.stgeorges.qc.ca/event/hs-exam-period-100/
CATEGORIES:High School Events
END:VEVENT
BEGIN:VEVENT
DTSTART;VALUE=DATE:20241219
DTEND;VALUE=DATE:20241220
DTSTAMP:20260424T071951
CREATED:20240822T052852Z
LAST-MODIFIED:20260423T235248Z
UID:81512-1734566400-1734652799@www.stgeorges.qc.ca
SUMMARY:Day 4
DESCRIPTION:
URL:https://www.stgeorges.qc.ca/event/day-4-136/
CATEGORIES:Full school Events
END:VEVENT
BEGIN:VEVENT
DTSTART;VALUE=DATE:20241218
DTEND;VALUE=DATE:20241219
DTSTAMP:20260424T071951
CREATED:20240822T114640Z
LAST-MODIFIED:20260423T173801Z
UID:81784-1734480000-1734566399@www.stgeorges.qc.ca
SUMMARY:HS Exam Period
DESCRIPTION:
URL:https://www.stgeorges.qc.ca/event/hs-exam-period-99/
CATEGORIES:High School Events
END:VEVENT
BEGIN:VEVENT
DTSTART;VALUE=DATE:20241218
DTEND;VALUE=DATE:20241219
DTSTAMP:20260424T071951
CREATED:20240822T052852Z
LAST-MODIFIED:20260423T235248Z
UID:81513-1734480000-1734566399@www.stgeorges.qc.ca
SUMMARY:Day 3
DESCRIPTION:
URL:https://www.stgeorges.qc.ca/event/day-3-125/
CATEGORIES:Full school Events
END:VEVENT
BEGIN:VEVENT
DTSTART;TZID=America/Toronto:20241217T133000
DTEND;TZID=America/Toronto:20241217T150000
DTSTAMP:20260424T071951
CREATED:20241125T185207Z
LAST-MODIFIED:20260423T210702Z
UID:82647-1734442200-1734447600@www.stgeorges.qc.ca
SUMMARY:ES: K-class. Winter Wonderland K Party
DESCRIPTION:
URL:https://www.stgeorges.qc.ca/event/es-k-class-winter-wonderland-k-party/
LOCATION:K-Class
CATEGORIES:Elementary School Events
END:VEVENT
BEGIN:VEVENT
DTSTART;TZID=America/Toronto:20241217T082000
DTEND;TZID=America/Toronto:20241217T093500
DTSTAMP:20260424T071951
CREATED:20241212T210814Z
LAST-MODIFIED:20260423T173801Z
UID:82760-1734423600-1734428100@www.stgeorges.qc.ca
SUMMARY:Grade 7 Assembly
DESCRIPTION:
URL:https://www.stgeorges.qc.ca/event/grade-7-assembly/
CATEGORIES:High School Events
END:VEVENT
BEGIN:VEVENT
DTSTART;VALUE=DATE:20241217
DTEND;VALUE=DATE:20241218
DTSTAMP:20260424T071951
CREATED:20240822T114639Z
LAST-MODIFIED:20260423T173801Z
UID:81782-1734393600-1734479999@www.stgeorges.qc.ca
SUMMARY:HS Exam Period
DESCRIPTION:
URL:https://www.stgeorges.qc.ca/event/hs-exam-period-97/
CATEGORIES:High School Events
END:VEVENT
BEGIN:VEVENT
DTSTART;VALUE=DATE:20241217
DTEND;VALUE=DATE:20241218
DTSTAMP:20260424T071951
CREATED:20240822T052839Z
LAST-MODIFIED:20260423T235248Z
UID:81510-1734393600-1734479999@www.stgeorges.qc.ca
SUMMARY:Day 2
DESCRIPTION:
URL:https://www.stgeorges.qc.ca/event/day-2-124/
CATEGORIES:Full school Events
END:VEVENT
BEGIN:VEVENT
DTSTART;TZID=America/Toronto:20241216T090000
DTEND;TZID=America/Toronto:20241216T100000
DTSTAMP:20260424T071951
CREATED:20241209T205204Z
LAST-MODIFIED:20260423T210701Z
UID:82733-1734339600-1734343200@www.stgeorges.qc.ca
SUMMARY:ES- Grade 3: Visit to Kahnawake
DESCRIPTION:
URL:https://www.stgeorges.qc.ca/event/es-grade-3-visit-to-kahnawake/
LOCATION:Kahnawake
CATEGORIES:Elementary School Events
END:VEVENT
BEGIN:VEVENT
DTSTART;VALUE=DATE:20241216
DTEND;VALUE=DATE:20241217
DTSTAMP:20260424T071951
CREATED:20240822T114640Z
LAST-MODIFIED:20260423T173749Z
UID:81783-1734307200-1734393599@www.stgeorges.qc.ca
SUMMARY:HS Exam Period
DESCRIPTION:
URL:https://www.stgeorges.qc.ca/event/hs-exam-period-98/
CATEGORIES:High School Events
END:VEVENT
BEGIN:VEVENT
DTSTART;VALUE=DATE:20241216
DTEND;VALUE=DATE:20241217
DTSTAMP:20260424T071951
CREATED:20240822T052838Z
LAST-MODIFIED:20260423T235248Z
UID:81509-1734307200-1734393599@www.stgeorges.qc.ca
SUMMARY:Day 1
DESCRIPTION:
URL:https://www.stgeorges.qc.ca/event/day-1-129/
CATEGORIES:Full school Events
END:VEVENT
BEGIN:VEVENT
DTSTART;TZID=America/Toronto:20241213T134500
DTEND;TZID=America/Toronto:20241213T150000
DTSTAMP:20260424T071951
CREATED:20241009T195149Z
LAST-MODIFIED:20260423T210702Z
UID:82181-1734097500-1734102000@www.stgeorges.qc.ca
SUMMARY:ES - Junior Concert
DESCRIPTION:
URL:https://www.stgeorges.qc.ca/event/es-junior-concert/
CATEGORIES:Elementary School Events
END:VEVENT
BEGIN:VEVENT
DTSTART;TZID=America/Toronto:20241213T083000
DTEND;TZID=America/Toronto:20241213T113000
DTSTAMP:20260424T071951
CREATED:20240923T172204Z
LAST-MODIFIED:20260423T173749Z
UID:82042-1734078600-1734089400@www.stgeorges.qc.ca
SUMMARY:Gr. 7 - Science Centre trip
DESCRIPTION:Absent for advisor\, here for lunch
URL:https://www.stgeorges.qc.ca/event/gr-7-science-centre-trip/
CATEGORIES:High School Events
END:VEVENT
BEGIN:VEVENT
DTSTART;VALUE=DATE:20241213
DTEND;VALUE=DATE:20241214
DTSTAMP:20260424T071951
CREATED:20241125T165303Z
LAST-MODIFIED:20260423T173749Z
UID:82644-1734048000-1734134399@www.stgeorges.qc.ca
SUMMARY:HS-Grade 9 Last Day of classes before Exams
DESCRIPTION:
URL:https://www.stgeorges.qc.ca/event/hs-grade-9-last-day-of-classes-before-exams/
CATEGORIES:High School Events
END:VEVENT
BEGIN:VEVENT
DTSTART;VALUE=DATE:20241213
DTEND;VALUE=DATE:20241214
DTSTAMP:20260424T071951
CREATED:20240822T114626Z
LAST-MODIFIED:20260423T173748Z
UID:81777-1734048000-1734134399@www.stgeorges.qc.ca
SUMMARY:HS Exam Period
DESCRIPTION:
URL:https://www.stgeorges.qc.ca/event/hs-exam-period-92/
CATEGORIES:High School Events
END:VEVENT
BEGIN:VEVENT
DTSTART;VALUE=DATE:20241213
DTEND;VALUE=DATE:20241214
DTSTAMP:20260424T071951
CREATED:20240822T052838Z
LAST-MODIFIED:20260423T235248Z
UID:81508-1734048000-1734134399@www.stgeorges.qc.ca
SUMMARY:Day 10
DESCRIPTION:
URL:https://www.stgeorges.qc.ca/event/day-10-128/
CATEGORIES:Full school Events
END:VEVENT
BEGIN:VEVENT
DTSTART;TZID=America/Toronto:20241212T135000
DTEND;TZID=America/Toronto:20241212T150000
DTSTAMP:20260424T071951
CREATED:20241204T202204Z
LAST-MODIFIED:20260423T210701Z
UID:82713-1734011400-1734015600@www.stgeorges.qc.ca
SUMMARY:Es-Junior Concert (Gr K to 3)- Practice run for Grandparents
DESCRIPTION:
URL:https://www.stgeorges.qc.ca/event/es-junior-concert-gr-k-to-3-practice-run-for-grandparents/
CATEGORIES:Elementary School Events
END:VEVENT
BEGIN:VEVENT
DTSTART;TZID=America/Toronto:20241212T135000
DTEND;TZID=America/Toronto:20241212T150000
DTSTAMP:20260424T071951
CREATED:20241009T195149Z
LAST-MODIFIED:20241117T175208Z
UID:82180-1734011400-1734015600@www.stgeorges.qc.ca
SUMMARY:Junior Concert - Practice Run - for Grandparents
DESCRIPTION:
URL:https://www.stgeorges.qc.ca/event/junior-concert-practice-run-for-grandparents/
CATEGORIES:Elementary School Events
END:VEVENT
BEGIN:VEVENT
DTSTART;VALUE=DATE:20241212
DTEND;VALUE=DATE:20241213
DTSTAMP:20260424T071951
CREATED:20240822T114626Z
LAST-MODIFIED:20260423T173748Z
UID:81778-1733961600-1734047999@www.stgeorges.qc.ca
SUMMARY:HS Exam Period
DESCRIPTION:
URL:https://www.stgeorges.qc.ca/event/hs-exam-period-93/
CATEGORIES:High School Events
END:VEVENT
BEGIN:VEVENT
DTSTART;VALUE=DATE:20241212
DTEND;VALUE=DATE:20241213
DTSTAMP:20260424T071951
CREATED:20240822T052837Z
LAST-MODIFIED:20260423T235248Z
UID:81506-1733961600-1734047999@www.stgeorges.qc.ca
SUMMARY:Day 9
DESCRIPTION:
URL:https://www.stgeorges.qc.ca/event/day-9-124/
CATEGORIES:Full school Events
END:VEVENT
BEGIN:VEVENT
DTSTART;TZID=America/Toronto:20241211T183000
DTEND;TZID=America/Toronto:20241211T203000
DTSTAMP:20260424T071951
CREATED:20241129T175320Z
LAST-MODIFIED:20260423T173749Z
UID:82682-1733941800-1733949000@www.stgeorges.qc.ca
SUMMARY:Grade 11- Parent Info Night: St. George’s Grade 12 Pre-University Program
DESCRIPTION:
URL:https://www.stgeorges.qc.ca/event/grade-11-parent-info-night-st-georges-pre-university-grade-12-program/
LOCATION:HS Theater
CATEGORIES:High School Events
END:VEVENT
BEGIN:VEVENT
DTSTART;VALUE=DATE:20241211
DTEND;VALUE=DATE:20241212
DTSTAMP:20260424T071951
CREATED:20240822T114639Z
LAST-MODIFIED:20260423T173749Z
UID:81779-1733875200-1733961599@www.stgeorges.qc.ca
SUMMARY:HS Exam Period
DESCRIPTION:
URL:https://www.stgeorges.qc.ca/event/hs-exam-period-94/
CATEGORIES:High School Events
END:VEVENT
BEGIN:VEVENT
DTSTART;VALUE=DATE:20241211
DTEND;VALUE=DATE:20241212
DTSTAMP:20260424T071951
CREATED:20240822T052838Z
LAST-MODIFIED:20260423T235247Z
UID:81507-1733875200-1733961599@www.stgeorges.qc.ca
SUMMARY:Day 8
DESCRIPTION:
URL:https://www.stgeorges.qc.ca/event/day-8-131/
CATEGORIES:Full school Events
END:VEVENT
BEGIN:VEVENT
DTSTART;VALUE=DATE:20241210
DTEND;VALUE=DATE:20241211
DTSTAMP:20260424T071951
CREATED:20240822T114639Z
LAST-MODIFIED:20260423T173749Z
UID:81780-1733788800-1733875199@www.stgeorges.qc.ca
SUMMARY:HS Exam Period
DESCRIPTION:
URL:https://www.stgeorges.qc.ca/event/hs-exam-period-95/
CATEGORIES:High School Events
END:VEVENT
BEGIN:VEVENT
DTSTART;VALUE=DATE:20241210
DTEND;VALUE=DATE:20241211
DTSTAMP:20260424T071951
CREATED:20240822T052837Z
LAST-MODIFIED:20260423T235248Z
UID:81505-1733788800-1733875199@www.stgeorges.qc.ca
SUMMARY:Day 7
DESCRIPTION:
URL:https://www.stgeorges.qc.ca/event/day-7-118/
CATEGORIES:Full school Events
END:VEVENT
BEGIN:VEVENT
DTSTART;VALUE=DATE:20241209
DTEND;VALUE=DATE:20241210
DTSTAMP:20260424T071951
CREATED:20240822T114639Z
LAST-MODIFIED:20260423T173749Z
UID:81781-1733702400-1733788799@www.stgeorges.qc.ca
SUMMARY:HS Exam Period
DESCRIPTION:
URL:https://www.stgeorges.qc.ca/event/hs-exam-period-96/
CATEGORIES:High School Events
END:VEVENT
END:VCALENDAR