BEGIN:VCALENDAR
VERSION:2.0
PRODID:-//St. George&#039;s School of Montreal - ECPv6.15.11//NONSGML v1.0//EN
CALSCALE:GREGORIAN
METHOD:PUBLISH
X-WR-CALNAME:St. George&#039;s School of Montreal
X-ORIGINAL-URL:https://www.stgeorges.qc.ca
X-WR-CALDESC:Events for St. George&#039;s School of Montreal
REFRESH-INTERVAL;VALUE=DURATION:PT1H
X-Robots-Tag:noindex
X-PUBLISHED-TTL:PT1H
BEGIN:VTIMEZONE
TZID:America/Toronto
BEGIN:DAYLIGHT
TZOFFSETFROM:-0500
TZOFFSETTO:-0400
TZNAME:EDT
DTSTART:20250309T070000
END:DAYLIGHT
BEGIN:STANDARD
TZOFFSETFROM:-0400
TZOFFSETTO:-0500
TZNAME:EST
DTSTART:20251102T060000
END:STANDARD
BEGIN:DAYLIGHT
TZOFFSETFROM:-0500
TZOFFSETTO:-0400
TZNAME:EDT
DTSTART:20260308T070000
END:DAYLIGHT
BEGIN:STANDARD
TZOFFSETFROM:-0400
TZOFFSETTO:-0500
TZNAME:EST
DTSTART:20261101T060000
END:STANDARD
BEGIN:DAYLIGHT
TZOFFSETFROM:-0500
TZOFFSETTO:-0400
TZNAME:EDT
DTSTART:20270314T070000
END:DAYLIGHT
BEGIN:STANDARD
TZOFFSETFROM:-0400
TZOFFSETTO:-0500
TZNAME:EST
DTSTART:20271107T060000
END:STANDARD
END:VTIMEZONE
BEGIN:VEVENT
DTSTART;VALUE=DATE:20260420
DTEND;VALUE=DATE:20260421
DTSTAMP:20260424T093745
CREATED:20250528T182553Z
LAST-MODIFIED:20260225T181317Z
UID:84038-1776643200-1776729599@www.stgeorges.qc.ca
SUMMARY:ES Water Week
DESCRIPTION:
URL:https://www.stgeorges.qc.ca/event/es-water-week/
CATEGORIES:Elementary School Events
END:VEVENT
BEGIN:VEVENT
DTSTART;VALUE=DATE:20260420
DTEND;VALUE=DATE:20260421
DTSTAMP:20260424T093745
CREATED:20250603T221749Z
LAST-MODIFIED:20260424T000154Z
UID:84263-1776643200-1776729599@www.stgeorges.qc.ca
SUMMARY:Day 1
DESCRIPTION:
URL:https://www.stgeorges.qc.ca/event/day-1-18/
CATEGORIES:Full school Events
END:VEVENT
BEGIN:VEVENT
DTSTART;TZID=America/Toronto:20260420T111500
DTEND;TZID=America/Toronto:20260420T134000
DTSTAMP:20260424T093745
CREATED:20260331T231613Z
LAST-MODIFIED:20260422T173117Z
UID:86708-1776683700-1776692400@www.stgeorges.qc.ca
SUMMARY:HS - All Grades : Reused Book Sale
DESCRIPTION:
URL:https://www.stgeorges.qc.ca/event/hs-all-grades-reused-book-sale/
LOCATION:HS Learning Commons
CATEGORIES:High School Events
END:VEVENT
BEGIN:VEVENT
DTSTART;VALUE=DATE:20260421
DTEND;VALUE=DATE:20260422
DTSTAMP:20260424T093745
CREATED:20250528T182553Z
LAST-MODIFIED:20260225T181317Z
UID:84039-1776729600-1776815999@www.stgeorges.qc.ca
SUMMARY:ES Water Week
DESCRIPTION:
URL:https://www.stgeorges.qc.ca/event/es-water-week-2/
CATEGORIES:Elementary School Events
END:VEVENT
BEGIN:VEVENT
DTSTART;VALUE=DATE:20260421
DTEND;VALUE=DATE:20260422
DTSTAMP:20260424T093745
CREATED:20250603T221749Z
LAST-MODIFIED:20260424T000154Z
UID:84264-1776729600-1776815999@www.stgeorges.qc.ca
SUMMARY:Day 2
DESCRIPTION:
URL:https://www.stgeorges.qc.ca/event/day-2-18/
CATEGORIES:Full school Events
END:VEVENT
BEGIN:VEVENT
DTSTART;TZID=America/Toronto:20260421T083000
DTEND;TZID=America/Toronto:20260421T093000
DTSTAMP:20260424T093745
CREATED:20250819T135850Z
LAST-MODIFIED:20260422T173117Z
UID:84648-1776760200-1776763800@www.stgeorges.qc.ca
SUMMARY:HS Parent Breakfast Meeting
DESCRIPTION:
URL:https://www.stgeorges.qc.ca/event/hs-parent-breakfast-meeting-3/
LOCATION:HS Learning Commons
CATEGORIES:High School Events
END:VEVENT
BEGIN:VEVENT
DTSTART;VALUE=DATE:20260422
DTEND;VALUE=DATE:20260423
DTSTAMP:20260424T093745
CREATED:20250528T182553Z
LAST-MODIFIED:20260225T181317Z
UID:84040-1776816000-1776902399@www.stgeorges.qc.ca
SUMMARY:ES Water Week
DESCRIPTION:
URL:https://www.stgeorges.qc.ca/event/es-water-week-3/
CATEGORIES:Elementary School Events
END:VEVENT
BEGIN:VEVENT
DTSTART;VALUE=DATE:20260422
DTEND;VALUE=DATE:20260423
DTSTAMP:20260424T093745
CREATED:20250528T232826Z
LAST-MODIFIED:20260414T220151Z
UID:84060-1776816000-1776902399@www.stgeorges.qc.ca
SUMMARY:Earth Day
DESCRIPTION:
URL:https://www.stgeorges.qc.ca/event/earth-day/
CATEGORIES:Full school Events
END:VEVENT
BEGIN:VEVENT
DTSTART;VALUE=DATE:20260422
DTEND;VALUE=DATE:20260423
DTSTAMP:20260424T093745
CREATED:20250603T221749Z
LAST-MODIFIED:20260424T000154Z
UID:84265-1776816000-1776902399@www.stgeorges.qc.ca
SUMMARY:Day 3
DESCRIPTION:
URL:https://www.stgeorges.qc.ca/event/day-3-18/
CATEGORIES:Full school Events
END:VEVENT
BEGIN:VEVENT
DTSTART;VALUE=DATE:20260422
DTEND;VALUE=DATE:20260423
DTSTAMP:20260424T093745
CREATED:20260409T233137Z
LAST-MODIFIED:20260424T000154Z
UID:86781-1776816000-1776902399@www.stgeorges.qc.ca
SUMMARY:Earth Day
DESCRIPTION:
URL:https://www.stgeorges.qc.ca/event/earth-day-3/
CATEGORIES:Full school Events
END:VEVENT
BEGIN:VEVENT
DTSTART;TZID=America/Toronto:20260422T082000
DTEND;TZID=America/Toronto:20260422T145500
DTSTAMP:20260424T093745
CREATED:20260331T231613Z
LAST-MODIFIED:20260422T173117Z
UID:86709-1776846000-1776869700@www.stgeorges.qc.ca
SUMMARY:HS - All Grades : Clothing Swap
DESCRIPTION:
URL:https://www.stgeorges.qc.ca/event/hs-all-grades-clothing-swap/
LOCATION:HS Student Lounge
CATEGORIES:High School Events
END:VEVENT
BEGIN:VEVENT
DTSTART;TZID=America/Toronto:20260422T134000
DTEND;TZID=America/Toronto:20260422T141500
DTSTAMP:20260424T093745
CREATED:20260227T184258Z
LAST-MODIFIED:20260423T211344Z
UID:86463-1776865200-1776867300@www.stgeorges.qc.ca
SUMMARY:ES World Earth Day Assembly: Launch of Nature Appreciation Month
DESCRIPTION:
URL:https://www.stgeorges.qc.ca/event/world-earth-day-assembly-launch-of-nature-appreciation-month/
CATEGORIES:Elementary School Events
END:VEVENT
BEGIN:VEVENT
DTSTART;VALUE=DATE:20260423
DTEND;VALUE=DATE:20260424
DTSTAMP:20260424T093745
CREATED:20250528T182554Z
LAST-MODIFIED:20260225T181317Z
UID:84041-1776902400-1776988799@www.stgeorges.qc.ca
SUMMARY:ES Water Week
DESCRIPTION:
URL:https://www.stgeorges.qc.ca/event/es-water-week-4/
CATEGORIES:Elementary School Events
END:VEVENT
BEGIN:VEVENT
DTSTART;VALUE=DATE:20260423
DTEND;VALUE=DATE:20260424
DTSTAMP:20260424T093745
CREATED:20250603T221750Z
LAST-MODIFIED:20260424T000207Z
UID:84267-1776902400-1776988799@www.stgeorges.qc.ca
SUMMARY:***DAY 5*** at HS / FRIDAY schedule at ES
DESCRIPTION:
URL:https://www.stgeorges.qc.ca/event/day-4-18/
CATEGORIES:Full school Events
END:VEVENT
BEGIN:VEVENT
DTSTART;TZID=America/Toronto:20260423T083000
DTEND;TZID=America/Toronto:20260423T134000
DTSTAMP:20260424T093745
CREATED:20250924T211207Z
LAST-MODIFIED:20260423T211344Z
UID:84997-1776933000-1776951600@www.stgeorges.qc.ca
SUMMARY:Grades 2 & 3: Author visit: Andrew Kate
DESCRIPTION:
URL:https://www.stgeorges.qc.ca/event/es-grades-2-3-author-visit-andrew-kate/
CATEGORIES:Elementary School Events
END:VEVENT
BEGIN:VEVENT
DTSTART;VALUE=DATE:20260424
DTEND;VALUE=DATE:20260425
DTSTAMP:20260424T093745
CREATED:20250412T214303Z
LAST-MODIFIED:20260424T000206Z
UID:83722-1776988800-1777075199@www.stgeorges.qc.ca
SUMMARY:PED Day
DESCRIPTION:
URL:https://www.stgeorges.qc.ca/event/ped-day-11/
CATEGORIES:Full school Events
END:VEVENT
BEGIN:VEVENT
DTSTART;VALUE=DATE:20260424
DTEND;VALUE=DATE:20260425
DTSTAMP:20260424T093745
CREATED:20250603T221750Z
LAST-MODIFIED:20260424T000207Z
UID:84266-1776988800-1777075199@www.stgeorges.qc.ca
SUMMARY:Day 5
DESCRIPTION:
URL:https://www.stgeorges.qc.ca/event/day-5-18/
CATEGORIES:Full school Events
END:VEVENT
BEGIN:VEVENT
DTSTART;VALUE=DATE:20260424
DTEND;VALUE=DATE:20260425
DTSTAMP:20260424T093745
CREATED:20250910T192921Z
LAST-MODIFIED:20260422T173118Z
UID:84835-1776988800-1777075199@www.stgeorges.qc.ca
SUMMARY:HS Community Learning Day
DESCRIPTION:
URL:https://www.stgeorges.qc.ca/event/community-learning-day-4/
CATEGORIES:High School Events
END:VEVENT
BEGIN:VEVENT
DTSTART;VALUE=DATE:20260426
DTEND;VALUE=DATE:20260427
DTSTAMP:20260424T093745
CREATED:20250910T192921Z
LAST-MODIFIED:20260422T173118Z
UID:84836-1777161600-1777247999@www.stgeorges.qc.ca
SUMMARY:March of the Living returns
DESCRIPTION:
URL:https://www.stgeorges.qc.ca/event/march-of-the-living-returns/
CATEGORIES:High School Events
END:VEVENT
BEGIN:VEVENT
DTSTART;VALUE=DATE:20260427
DTEND;VALUE=DATE:20260428
DTSTAMP:20260424T093745
CREATED:20250603T221750Z
LAST-MODIFIED:20260424T000207Z
UID:84268-1777248000-1777334399@www.stgeorges.qc.ca
SUMMARY:Day 6
DESCRIPTION:
URL:https://www.stgeorges.qc.ca/event/day-6-19/
CATEGORIES:Full school Events
END:VEVENT
BEGIN:VEVENT
DTSTART;TZID=America/Toronto:20260427T093000
DTEND;TZID=America/Toronto:20260427T101500
DTSTAMP:20260424T093745
CREATED:20260422T173118Z
LAST-MODIFIED:20260422T173118Z
UID:86865-1777282200-1777284900@www.stgeorges.qc.ca
SUMMARY:HS : JMSB Guest Speaker
DESCRIPTION:
URL:https://www.stgeorges.qc.ca/event/hs-jmsb-guest-speaker/
LOCATION:Theatre
CATEGORIES:High School Events
END:VEVENT
BEGIN:VEVENT
DTSTART;TZID=America/Toronto:20260427T123000
DTEND;TZID=America/Toronto:20260427T150000
DTSTAMP:20260424T093745
CREATED:20260326T231332Z
LAST-MODIFIED:20260423T211344Z
UID:86676-1777293000-1777302000@www.stgeorges.qc.ca
SUMMARY:ES Kindergarten - Grade 6 : Shoreline Cleanup
DESCRIPTION:
URL:https://www.stgeorges.qc.ca/event/es-kindergarten-grade-6-shoreline-cleanup/
LOCATION:Details to come
CATEGORIES:Elementary School Events
END:VEVENT
BEGIN:VEVENT
DTSTART;VALUE=DATE:20260428
DTEND;VALUE=DATE:20260429
DTSTAMP:20260424T093745
CREATED:20250603T221804Z
LAST-MODIFIED:20260424T000207Z
UID:84270-1777334400-1777420799@www.stgeorges.qc.ca
SUMMARY:Day 7
DESCRIPTION:
URL:https://www.stgeorges.qc.ca/event/day-7-17/
CATEGORIES:Full school Events
END:VEVENT
BEGIN:VEVENT
DTSTART;TZID=America/Toronto:20260428T060000
DTEND;TZID=America/Toronto:20260428T180000
DTSTAMP:20260424T093745
CREATED:20260218T160110Z
LAST-MODIFIED:20260422T173130Z
UID:86378-1777356000-1777399200@www.stgeorges.qc.ca
SUMMARY:HS - Grade 10: HQC Ottawa Trip
DESCRIPTION:School Bus: Bus departs St. G’s at: 6:30am \n                       Bus departs venue at: 3:00pm
URL:https://www.stgeorges.qc.ca/event/hs-grade-10-hqc-ottawa-trip/
CATEGORIES:High School Events
END:VEVENT
BEGIN:VEVENT
DTSTART;TZID=America/Toronto:20260428T124000
DTEND;TZID=America/Toronto:20260428T140000
DTSTAMP:20260424T093745
CREATED:20260204T234607Z
LAST-MODIFIED:20260422T173130Z
UID:86233-1777380000-1777384800@www.stgeorges.qc.ca
SUMMARY:HS - Sci-9 Enrichment Guest Speaker Lecture Series
DESCRIPTION:
URL:https://www.stgeorges.qc.ca/event/hs-sci-9-enrichment-guest-speaker-lecture-series-3/
LOCATION:Room 216
CATEGORIES:High School Events
END:VEVENT
BEGIN:VEVENT
DTSTART;VALUE=DATE:20260429
DTEND;VALUE=DATE:20260430
DTSTAMP:20260424T093745
CREATED:20250603T221750Z
LAST-MODIFIED:20260424T000207Z
UID:84269-1777420800-1777507199@www.stgeorges.qc.ca
SUMMARY:Day 8
DESCRIPTION:
URL:https://www.stgeorges.qc.ca/event/day-8-18/
CATEGORIES:Full school Events
END:VEVENT
BEGIN:VEVENT
DTSTART;TZID=America/Toronto:20260429T091500
DTEND;TZID=America/Toronto:20260429T113000
DTSTAMP:20260424T093745
CREATED:20251212T201227Z
LAST-MODIFIED:20260423T211344Z
UID:85735-1777454100-1777462200@www.stgeorges.qc.ca
SUMMARY:ES - Grade 6: “Curtains” - Play Production
DESCRIPTION:School Bus: Bus departs St.G’s at: 12:25pm \n                      Bus departs venue at: 2:30pm
URL:https://www.stgeorges.qc.ca/event/es-grade-6-curtains-play-production/
LOCATION:5170 Cote Ste. Catherine
CATEGORIES:Elementary School Events
END:VEVENT
BEGIN:VEVENT
DTSTART;TZID=America/Toronto:20260429T093500
DTEND;TZID=America/Toronto:20260429T100000
DTSTAMP:20260424T093745
CREATED:20251114T234437Z
LAST-MODIFIED:20260422T173130Z
UID:85514-1777455300-1777456800@www.stgeorges.qc.ca
SUMMARY:HS - ALL Grades: Dragon Call
DESCRIPTION:
URL:https://www.stgeorges.qc.ca/event/hs-all-grades-dragon-call-5/
CATEGORIES:High School Events
END:VEVENT
BEGIN:VEVENT
DTSTART;TZID=America/Toronto:20260429T153000
DTEND;TZID=America/Toronto:20260429T163000
DTSTAMP:20260424T093745
CREATED:20260402T224327Z
LAST-MODIFIED:20260423T211344Z
UID:86738-1777476600-1777480200@www.stgeorges.qc.ca
SUMMARY:Gr 3 & 4 Ferme d' Andre Info Session
DESCRIPTION:
URL:https://www.stgeorges.qc.ca/event/ferme-d-andre-info-session/
LOCATION:Grade 3 Homeroom
CATEGORIES:Elementary School Events
END:VEVENT
BEGIN:VEVENT
DTSTART;VALUE=DATE:20260430
DTEND;VALUE=DATE:20260501
DTSTAMP:20260424T093745
CREATED:20250603T221805Z
LAST-MODIFIED:20260424T000207Z
UID:84272-1777507200-1777593599@www.stgeorges.qc.ca
SUMMARY:Day 9
DESCRIPTION:
URL:https://www.stgeorges.qc.ca/event/day-9-18/
CATEGORIES:Full school Events
END:VEVENT
END:VCALENDAR