BEGIN:VCALENDAR
VERSION:2.0
PRODID:-//St. George&#039;s School of Montreal - ECPv6.15.11//NONSGML v1.0//EN
CALSCALE:GREGORIAN
METHOD:PUBLISH
X-ORIGINAL-URL:https://www.stgeorges.qc.ca
X-WR-CALDESC:Events for St. George&#039;s School of Montreal
REFRESH-INTERVAL;VALUE=DURATION:PT1H
X-Robots-Tag:noindex
X-PUBLISHED-TTL:PT1H
BEGIN:VTIMEZONE
TZID:America/Toronto
BEGIN:DAYLIGHT
TZOFFSETFROM:-0500
TZOFFSETTO:-0400
TZNAME:EDT
DTSTART:20250309T070000
END:DAYLIGHT
BEGIN:STANDARD
TZOFFSETFROM:-0400
TZOFFSETTO:-0500
TZNAME:EST
DTSTART:20251102T060000
END:STANDARD
BEGIN:DAYLIGHT
TZOFFSETFROM:-0500
TZOFFSETTO:-0400
TZNAME:EDT
DTSTART:20260308T070000
END:DAYLIGHT
BEGIN:STANDARD
TZOFFSETFROM:-0400
TZOFFSETTO:-0500
TZNAME:EST
DTSTART:20261101T060000
END:STANDARD
BEGIN:DAYLIGHT
TZOFFSETFROM:-0500
TZOFFSETTO:-0400
TZNAME:EDT
DTSTART:20270314T070000
END:DAYLIGHT
BEGIN:STANDARD
TZOFFSETFROM:-0400
TZOFFSETTO:-0500
TZNAME:EST
DTSTART:20271107T060000
END:STANDARD
END:VTIMEZONE
BEGIN:VEVENT
DTSTART;VALUE=DATE:20260316
DTEND;VALUE=DATE:20260317
DTSTAMP:20260424T081932
CREATED:20250528T232813Z
LAST-MODIFIED:20260424T000116Z
UID:84055-1773619200-1773705599@www.stgeorges.qc.ca
SUMMARY:La semaine de la francophonie
DESCRIPTION:
URL:https://www.stgeorges.qc.ca/event/la-semaine-de-la-francophonie/
CATEGORIES:Full school Events
END:VEVENT
BEGIN:VEVENT
DTSTART;VALUE=DATE:20260316
DTEND;VALUE=DATE:20260317
DTSTAMP:20260424T081932
CREATED:20250603T221703Z
LAST-MODIFIED:20260424T000128Z
UID:84239-1773619200-1773705599@www.stgeorges.qc.ca
SUMMARY:Day 6
DESCRIPTION:
URL:https://www.stgeorges.qc.ca/event/day-6-16/
CATEGORIES:Full school Events
END:VEVENT
BEGIN:VEVENT
DTSTART;TZID=America/Toronto:20260316T093500
DTEND;TZID=America/Toronto:20260316T100000
DTSTAMP:20260424T081932
CREATED:20260128T220046Z
LAST-MODIFIED:20260422T173036Z
UID:86142-1773653700-1773655200@www.stgeorges.qc.ca
SUMMARY:HS - French   Grade 7 - 11: Mois de la Francophonie Assemblée
DESCRIPTION:
URL:https://www.stgeorges.qc.ca/event/hs-french-grade-7-11-mois-de-la-francophonie-assemblee/
LOCATION:HS GYM
CATEGORIES:High School Events
END:VEVENT
BEGIN:VEVENT
DTSTART;TZID=America/Toronto:20260316T144500
DTEND;TZID=America/Toronto:20260316T150500
DTSTAMP:20260424T081932
CREATED:20250910T174134Z
LAST-MODIFIED:20260423T211303Z
UID:84818-1773672300-1773673500@www.stgeorges.qc.ca
SUMMARY:ES - Full School: Mois de la Francophonie Assemblée
DESCRIPTION:
URL:https://www.stgeorges.qc.ca/event/es-full-school-mois-de-la-francophonie-assemblee-2/
CATEGORIES:Elementary School Events
END:VEVENT
END:VCALENDAR